Workbook
Name \i: #REF!
Name _Dias_U_Acumulados: #REF!
Name _Feriados: #REF!
Name _IND1: #REF!
Name a: #REF!
Name aaaaa: #REF!
Name acq: #REF!
Name Acquisition_Date: #REF!
Name adicionado_ant: #REF!
Name adicionados: #REF!
Name aFeriados: #REF!
Name aFeriadosUK: #REF!
Name Agente_Fiduciario: #REF!
Name AllRaw: #REF!
Name AllSummary: #REF!
Name Amortizacao_Mezanino: #REF!
Name Amortizacao_Senior: #REF!
Name Amortizacao_Subordinada: #REF!
Name AMT.SENIOR: OFFSET(#REF!,0,0,#REF!)
Name AMT.SENIOR.CONS: OFFSET(#REF!,0,0,COUNTIF(#REF!,">0"))
Name AMT.SUB: OFFSET(#REF!,0,0,#REF!)
Name AMT.SUB.CONS: OFFSET(#REF!,0,0,COUNTIF(#REF!,">0"))
Name analise_start: #REF!
Name ANO: OFFSET(#REF!,0,0,#REF!)
Name ANO.CONS: OFFSET(#REF!,0,0,COUNTIF(#REF!,">0"))
Name AP_COFINS: #REF!
Name AP_CSLL: #REF!
Name AP_PIS: #REF!
Name aquisição: #REF!
Name AREA: #REF!
Name Área: #REF!
Name AreaResult: #REF!
Name Areas_FC: #REF!
Name arley: #REF!
Name arq_cipasa: #REF!
Name arq_r1: #REF!
Name arq_r2: #REF!
Name arq_r3: #REF!
Name arq_r4: #REF!
Name arq_r5: #REF!
Name arq_r6: #REF!
Name arq_r7: #REF!
Name arred_j: #REF!
Name as: #REF!
Name ASK: #REF!
Name assunto_email_AF: #REF!
Name ATIVO: #REF!
Name aut: #REF!
Name b: #REF!
Name base: #REF!
Name BID: #REF!
Name boletas_consolidadas: #REF!
Name BoletasCalc: #REF!
Name Broker_fee: #REF!
Name BRUS: #REF!
Name BTS_SLB: #REF!
Name But_Close: #REF!
Name But_Print: #REF!
Name C_: #REF!
Name calculo: #REF!

Sheet Fechamento
B4: Apelido da operação: | C4: DEB 4E Precatório Nomos | E4: Código IF 1ªS: | F4: SOUS14 | H4: Conta de PS: | I4: 341 | 0271 | 34338-6 | K4: Emissora: | L4: Sou Capital | O4: Agencia de Rating: | P4: N/A
B5: Instrumento: | C5: DEB | E5: Código ISIN 1ªS: | F5: BRSOUSDBS067 | H5: Conta Arrecadadora: | K5: Coordenador Líder | L5: Sou Capital | O5: Agente Fiduciário: | P5: N/A
B6: Emissão: | C6: 4 | E6: Remuneração 1ªS: | F6: DI + 7,00% | H6: Conta Escrow: | K6: Cedente: | L6: Vários PF | O6: Custodiante: | P6: Oliveira Trust DTVM
B7: Séries: | C7: 2 | E7: Código IF 2ªS: | F7: SOUS24 | H7: Conta Livre Movimentação: | I7: Cedente | K7: Locatária: | O7: Escriturador: | P7: Oliveira Trust DTVM
B8: Data de Emissão: | C8: 46168 | E8: Código ISIN 2ªS: | F8: BRSOUSDBS075 | H8: Liquidante: | I8: Oliveira Trust DTVM | K8: Lastro: | O8: Agente Liquidante: | P8: Oliveira Trust DTVM
B9: Data de Vencimento: | C9: 46533 | E9: Remuneração 2ªS: | F9: - | K9: Garantia:
A11: Data de Verificação | B11: Data de Pgto DEB | C11: Data Final Mês de Referência | D11: Operação | F11: Conta Patrimônio Separado | H11: PMT DEB ("Valor Mínimo Mensal") 1ª Série da 4ª Emissão | K11: PMT DEB ("Valor Mínimo Mensal") 2ª Série da 4ª Emissão | N11: Saldos Pós Evento | P11: Coobrigação/ Devolução - Ordem de Prioridade de Pagamentos | Z11: Fundo de Despesa
D12: Emissão | E12: Série | F12: Ag | G12: c/c | H12: Juros | I12: Amortização | J12: Total | K12: Juros | L12: Amortização | M12: Total | N12: Saldo Devedor 1ª Série da 4ª E (SD - PMT) | O12: Saldo Devedor 2ª Série da 4ª E (SD - PMT) | P12: Recebíveis Direitos Creditórios | Q12: (i) Despesas | R12: (ii) Encargos | S12: (iii) Remuneração da DEB 1ªS | T12: (iv) Amortização de Principal da DEB 1ªS | U12: (v) Resgate da DEB 1ªS (quando aplicável) | V12: (vi) Honorários Assessor Legal 7,5% | W12: (vii) Taxa de Performance | X12: (viii) Prêmio Sobre a Receita dos DC | Y12: (ix) Resgate da DEB 2ªS | Z12: Valor mínimo | AA12: Saldo Fundo de Despesa | AB12: Fundo de Despesa | AC12: Recomposição
A13: =WORKDAY(EOMONTH(C13,-1),10,'Feriados!'!Feriados) -> 46188 | B13: 46199 | C13: =WORKDAY.INTL(EOMONTH(B13,0)+1,-1,1,'Feriados!'!Feriados) -> 46203 | D13: 4ª | E13: 1ª e 2ª | F13: 271 | G13: 34338-6 | H13: =VLOOKUP($B13,'PuDiario 4E 1S'!$A:$BQ,11,0)*VLOOKUP(Fechamento!B13,'PuDiario 4E 1S'!$A:$BQ,19,0) -> 154796.24 | I13: =VLOOKUP($B13,'PuDiario 4E 1S'!$A:$BQ,16,0)*VLOOKUP(Fechamento!B13,'PuDiario 4E 1S'!$A:$BQ,19,0) -> 0 | J13: =IF(H13="","",H13+I13) -> 154796.24 | K13: =VLOOKUP($B13,'PuDiario 4E 2S'!$A:$BQ,11,0)*VLOOKUP(Fechamento!B13,'PuDiario 4E 2S'!$A:$BQ,19,0) -> 0 | L13: =VLOOKUP($B13,'PuDiario 4E 2S'!$A:$BQ,16,0)*VLOOKUP(B13,'PuDiario 4E 2S'!$A:$BQ,19,0) -> 0 | M13: =IF(K13="","",K13+L13) -> 0 | N13: =VLOOKUP($B13,'PuDiario 4E 1S'!$A:$BQ,18,0)*VLOOKUP(Fechamento!B13,'PuDiario 4E 1S'!$A:$BQ,19,0) -> 8868796.2 | O13: =VLOOKUP($B13,'PuDiario 4E 2S'!$A:$BQ,18,0)*VLOOKUP(B13,'PuDiario 4E 2S'!$A:$BQ,19,0) -> 1536000 | P13: 0 | Q13: 0 | R13: 0 | S13: 0 | T13: =I13 -> 0 | U13: 0 | V13: 0 | W13: 0 | X13: 0 | Y13: 0 | Z13: 25000 | AA13: =Fundos!G10 -> 130183.08 | AB13: =IF(AA13<Z13,"Necessário Recomposição","Em Conformidade") -> Em Conformidade | AC13: =IF(AB13="Em Conformidade","0,00",Z13-AA13) -> 0,00
A14: =WORKDAY(EOMONTH(C14,-1),10,'Feriados!'!Feriados) -> 46217 | B14: 46230 | C14: =WORKDAY.INTL(EOMONTH(B14,0)+1,-1,1,'Feriados!'!Feriados) -> 46234 | D14: 4ª | E14: 1ª e 2ª | F14: 271 | G14: 34338-6 | H14: =VLOOKUP($B14,'PuDiario 4E 1S'!$A:$BQ,11,0)*VLOOKUP(Fechamento!B14,'PuDiario 4E 1S'!$A:$BQ,19,0) -> 149053.4 | I14: =VLOOKUP($B14,'PuDiario 4E 1S'!$A:$BQ,16,0)*VLOOKUP(Fechamento!B14,'PuDiario 4E 1S'!$A:$BQ,19,0) -> 0 | J14: =IF(H14="","",H14+I14) -> 149053.4 | K14: =VLOOKUP($B14,'PuDiario 4E 2S'!$A:$BQ,11,0)*VLOOKUP(Fechamento!B14,'PuDiario 4E 2S'!$A:$BQ,19,0) -> 0 | L14: =VLOOKUP($B14,'PuDiario 4E 2S'!$A:$BQ,16,0)*VLOOKUP(B14,'PuDiario 4E 2S'!$A:$BQ,19,0) -> 0 | M14: =IF(K14="","",K14+L14) -> 0 | N14: =VLOOKUP($B14,'PuDiario 4E 1S'!$A:$BQ,18,0)*VLOOKUP(Fechamento!B14,'PuDiario 4E 1S'!$A:$BQ,19,0) -> 9017849.6 | O14: =VLOOKUP($B14,'PuDiario 4E 2S'!$A:$BQ,18,0)*VLOOKUP(B14,'PuDiario 4E 2S'!$A:$BQ,19,0) -> 1536000 | P14: 0 | Q14: 0 | R14: 0 | S14: 0 | T14: =I14 -> 0 | U14: 0 | V14: 0 | W14: 0 | X14: 0 | Y14: 0 | Z14: 25000 | AA14: =Fundos!G11 -> 131396.65 | AB14: =IF(AA14<Z14,"Necessário Recomposição","Em Conformidade") -> Em Conformidade | AC14: =IF(AB14="Em Conformidade","0,00",Z14-AA14) -> 0,00
A15: =WORKDAY(EOMONTH(C15,-1),10,'Feriados!'!Feriados) -> 46248 | B15: 46260 | C15: =WORKDAY.INTL(EOMONTH(B15,0)+1,-1,1,'Feriados!'!Feriados) -> 46265 | D15: 4ª | E15: 1ª e 2ª | F15: 271 | G15: 34338-6 | J15: =IF(H15="","",H15+I15) | M15: =IF(K15="","",K15+L15) | Z15: 25000
A16: =WORKDAY(EOMONTH(C16,-1),10,'Feriados!'!Feriados) -> 46280 | B16: 46293 | C16: =WORKDAY.INTL(EOMONTH(B16,0)+1,-1,1,'Feriados!'!Feriados) -> 46295 | D16: 4ª | E16: 1ª e 2ª | F16: 271 | G16: 34338-6 | J16: =IF(H16="","",H16+I16) | M16: =IF(K16="","",K16+L16) | Z16: 25000
A17: =WORKDAY(EOMONTH(C17,-1),10,'Feriados!'!Feriados) -> 46310 | B17: 46321 | C17: =WORKDAY.INTL(EOMONTH(B17,0)+1,-1,1,'Feriados!'!Feriados) -> 46325 | D17: 4ª | E17: 1ª e 2ª | F17: 271 | G17: 34338-6 | J17: =IF(H17="","",H17+I17) | M17: =IF(K17="","",K17+L17) | Z17: 25000
A18: =WORKDAY(EOMONTH(C18,-1),10,'Feriados!'!Feriados) -> 46342 | B18: 46352 | C18: =WORKDAY.INTL(EOMONTH(B18,0)+1,-1,1,'Feriados!'!Feriados) -> 46356 | D18: 4ª | E18: 1ª e 2ª | F18: 271 | G18: 34338-6 | J18: =IF(H18="","",H18+I18) | M18: =IF(K18="","",K18+L18) | Z18: 25000
A19: =WORKDAY(EOMONTH(C19,-1),10,'Feriados!'!Feriados) -> 46370 | B19: 46384 | C19: =WORKDAY.INTL(EOMONTH(B19,0)+1,-1,1,'Feriados!'!Feriados) -> 46387 | D19: 4ª | E19: 1ª e 2ª | F19: 271 | G19: 34338-6 | J19: =IF(H19="","",H19+I19) | M19: =IF(K19="","",K19+L19) | Z19: 25000
A20: =WORKDAY(EOMONTH(C20,-1),10,'Feriados!'!Feriados) -> 46402 | B20: 46413 | C20: =WORKDAY.INTL(EOMONTH(B20,0)+1,-1,1,'Feriados!'!Feriados) -> 46416 | D20: 4ª | E20: 1ª e 2ª | F20: 271 | G20: 34338-6 | J20: =IF(H20="","",H20+I20) | M20: =IF(K20="","",K20+L20) | Z20: 25000
A21: =WORKDAY(EOMONTH(C21,-1),10,'Feriados!'!Feriados) -> 46434 | B21: 46444 | C21: =WORKDAY.INTL(EOMONTH(B21,0)+1,-1,1,'Feriados!'!Feriados) -> 46444 | D21: 4ª | E21: 1ª e 2ª | F21: 271 | G21: 34338-6 | J21: =IF(H21="","",H21+I21) | M21: =IF(K21="","",K21+L21) | Z21: 25000
A22: =WORKDAY(EOMONTH(C22,-1),10,'Feriados!'!Feriados) -> 46458 | B22: 46475 | C22: =WORKDAY.INTL(EOMONTH(B22,0)+1,-1,1,'Feriados!'!Feriados) -> 46477 | D22: 4ª | E22: 1ª e 2ª | F22: 271 | G22: 34338-6 | J22: =IF(H22="","",H22+I22) | M22: =IF(K22="","",K22+L22) | Z22: 25000
A23: =WORKDAY(EOMONTH(C23,-1),10,'Feriados!'!Feriados) -> 46491 | B23: 46503 | C23: =WORKDAY.INTL(EOMONTH(B23,0)+1,-1,1,'Feriados!'!Feriados) -> 46507 | D23: 4ª | E23: 1ª e 2ª | F23: 271 | G23: 34338-6 | J23: =IF(H23="","",H23+I23) | M23: =IF(K23="","",K23+L23) | Z23: 25000
A24: =WORKDAY(EOMONTH(C24,-1),10,'Feriados!'!Feriados) -> 46521 | B24: 46533 | C24: =WORKDAY.INTL(EOMONTH(B24,0)+1,-1,1,'Feriados!'!Feriados) -> 46538 | D24: 4ª | E24: 1ª e 2ª | F24: 271 | G24: 34338-6 | J24: =IF(H24="","",H24+I24) | M24: =IF(K24="","",K24+L24) | Z24: 25000

Sheet Extrato C_34338-6
B5: Conta Centralizadora
B6: Banco | C6: ITAU
B7: Agência | C7: 271
B8: Conta | C8: 34338-6
B9: Série | C9: 1ª e 2ª
B11: Data | C11: Lançamento | D11: Razão Social | E11: CPF/CNPJ | F11: Valor (R$) | G11: Saldo (R$) | H11: Referência | I11: Classificação | J11: Observação
B12: 29/05/2026 | C12: TED 111.0001.SOU S S | D12: SOU SECURITIZADORA S.A | E12: 62.271.128/0001-47 | F12: 10263995 | H12: =WORKDAY.INTL(EOMONTH(B12,0)+1,-1,1,'Feriados!'!Feriados) -> 46171 | I12: INTEGRALIZAÇÃO | J12: 1ª E 2ª SÉRIES
B13: 29/05/2026 | C13: SISPAG FORNECEDORES | F13: -9763818.8 | H13: =WORKDAY.INTL(EOMONTH(B13,0)+1,-1,1,'Feriados!'!Feriados) -> 46171 | I13: LIBERAÇÃO | J13: CESSÃO
B14: 29/05/2026 | C14: SISPAG FORNECEDORES | F14: -40000 | H14: =WORKDAY.INTL(EOMONTH(B14,0)+1,-1,1,'Feriados!'!Feriados) -> 46171 | I14: DESPESA | J14: FLAT - ASSESSOR LEGAL
B15: 29/05/2026 | C15: SALDO TOTAL DISPONÍVEL DIA | G15: 460175.71 | H15: =WORKDAY.INTL(EOMONTH(B15,0)+1,-1,1,'Feriados!'!Feriados) -> 46171 | I15: SALDO
B16: 01/06/2026 | C16: SISPAG FORNECEDORES | F16: -2142 | H16: =WORKDAY.INTL(EOMONTH(B16,0)+1,-1,1,'Feriados!'!Feriados) -> 46203 | I16: DESPESA | J16: FLAT - PUBLICAÇÃO
B17: 01/06/2026 | C17: SALDO TOTAL DISPONÍVEL DIA | G17: 458033.71 | H17: =WORKDAY.INTL(EOMONTH(B17,0)+1,-1,1,'Feriados!'!Feriados) -> 46203 | I17: SALDO
B18: 02/06/2026 | C18: TAR MANUT CONTA 05/26 | F18: -87 | H18: =WORKDAY.INTL(EOMONTH(B18,0)+1,-1,1,'Feriados!'!Feriados) -> 46203 | I18: DESPESA | J18: TARIFA
B19: 02/06/2026 | C19: TAR PIX PGTO TRANSF | F19: -1.65 | H19: =WORKDAY.INTL(EOMONTH(B19,0)+1,-1,1,'Feriados!'!Feriados) -> 46203 | I19: DESPESA | J19: TARIFA
B20: 02/06/2026 | C20: SISPAG FORNECEDORES | F20: -39037.7 | H20: =WORKDAY.INTL(EOMONTH(B20,0)+1,-1,1,'Feriados!'!Feriados) -> 46203 | I20: DESPESA | J20: FLAT - EMISSÃO E TAXA DE GESTÃO 06.2026 SOU CAPITAL
B21: 02/06/2026 | C21: SALDO TOTAL DISPONÍVEL DIA | G21: 418907.36 | H21: =WORKDAY.INTL(EOMONTH(B21,0)+1,-1,1,'Feriados!'!Feriados) -> 46203 | I21: SALDO | J21: SALDO
B22: 03/06/2026 | C22: APLICACAO CDB DI | F22: -130000 | H22: =WORKDAY.INTL(EOMONTH(B22,0)+1,-1,1,'Feriados!'!Feriados) -> 46203 | I22: APLICAÇÃO
B23: 03/06/2026 | C23: SALDO TOTAL DISPONÍVEL DIA | G23: 288907.36 | H23: =WORKDAY.INTL(EOMONTH(B23,0)+1,-1,1,'Feriados!'!Feriados) -> 46203 | I23: SALDO
B24: 05/06/2026 | C24: SISPAG FORNECEDORES | F24: -238638.24 | H24: =WORKDAY.INTL(EOMONTH(B24,0)+1,-1,1,'Feriados!'!Feriados) -> 46203 | I24: DESPESA | J24: FLAT - ORIGINAÇÃO
B25: 05/06/2026 | C25: SALDO TOTAL DISPONÍVEL DIA | G25: 50269.12 | H25: =WORKDAY.INTL(EOMONTH(B25,0)+1,-1,1,'Feriados!'!Feriados) -> 46203 | I25: SALDO
B26: 08/06/2026 | C26: SISPAG FORNECEDORES | F26: -10000 | H26: =WORKDAY.INTL(EOMONTH(B26,0)+1,-1,1,'Feriados!'!Feriados) -> 46203 | I26: DESPESA | J26: ATLAS FEE
B27: 08/06/2026 | C27: SALDO TOTAL DISPONÍVEL DIA | G27: 40269.12 | H27: =WORKDAY.INTL(EOMONTH(B27,0)+1,-1,1,'Feriados!'!Feriados) -> 46203 | I27: SALDO
B28: 11/06/2026 | C28: PIX RECEBIDO SOU SEC11/06 | D28: SOU SECURITIZADORA S.A | E28: 62.271.128/0001-47 | F28: 8710.3 | H28: =WORKDAY.INTL(EOMONTH(B28,0)+1,-1,1,'Feriados!'!Feriados) -> 46203 | I28: PAGAMENTO | J28: DEVOLUÇÃO PIS COFINS NOMOS
B29: 11/06/2026 | C29: SISPAG FORNECEDORES | F29: -8710.3 | H29: =WORKDAY.INTL(EOMONTH(B29,0)+1,-1,1,'Feriados!'!Feriados) -> 46203 | I29: DESPESA | J29: DEVOLUÇÃO PIS COFINS NOMOS
B30: 11/06/2026 | C30: SISPAG FORNECEDORES | D30: LINK - CONSULTORIA CONTABIL E | E30: 03.997.580/0001-21 | F30: -258.08 | H30: =WORKDAY.INTL(EOMONTH(B30,0)+1,-1,1,'Feriados!'!Feriados) -> 46203 | I30: DESPESA | J30: LINK
B31: 11/06/2026 | C31: SISPAG FORNECEDORES | D31: LINK - CONSULTORIA CONTABIL E | E31: 03.997.580/0001-21 | F31: -16.92 | H31: =WORKDAY.INTL(EOMONTH(B31,0)+1,-1,1,'Feriados!'!Feriados) -> 46203 | I31: DESPESA | J31: SOU REEMBOLSO B3
B32: 11/06/2026 | C32: SALDO TOTAL DISPONÍVEL DIA | G32: 39994.12 | H32: =WORKDAY.INTL(EOMONTH(B32,0)+1,-1,1,'Feriados!'!Feriados) -> 46203 | I32: SALDO
B33: 46196 | C33: SISPAG FORNECEDORES | D33: ATLAS SECURITIZADORA S.A | E33: 66.442.571/0001-94 | F33: -1500 | H33: =WORKDAY.INTL(EOMONTH(B33,0)+1,-1,1,'Feriados!'!Feriados) -> 46203 | I33: DESPESA | J33: TAXA MONITORAMENTO
B34: 23/06/2026 | C34: SALDO TOTAL DISPONÍVEL DIA | G34: 38494.12 | H34: =WORKDAY.INTL(EOMONTH(B34,0)+1,-1,1,'Feriados!'!Feriados) -> 46203 | I34: SALDO
B35: 02/07/2026 | C35: TAR MANUT CONTA 06/26 | F35: -87 | H35: =WORKDAY.INTL(EOMONTH(B35,0)+1,-1,1,'Feriados!'!Feriados) -> 46234 | I35: DESPESA | J35: TARIFA
B36: 02/07/2026 | C36: TAR PIX PGTO TRANSF | F36: -4.4 | H36: =WORKDAY.INTL(EOMONTH(B36,0)+1,-1,1,'Feriados!'!Feriados) -> 46234 | I36: DESPESA | J36: TARIFA
B37: 02/07/2026 | C37: SALDO TOTAL DISPONÍVEL DIA | G37: 38402.72 | H37: =WORKDAY.INTL(EOMONTH(B37,0)+1,-1,1,'Feriados!'!Feriados) -> 46234 | I37: SALDO
B38: 07/07/2026 | C38: SISPAG FORNECEDORES | D38: LINK - CONSULTORIA CONTABIL E | E38: 03.997.580/0001-21 | F38: -258.08 | H38: =WORKDAY.INTL(EOMONTH(B38,0)+1,-1,1,'Feriados!'!Feriados) -> 46234 | I38: DESPESA | J38: LINK
B39: 07/07/2026 | C39: SISPAG FORNECEDORES | D39: LINK - CONSULTORIA CONTABIL E | E39: 03.997.580/0001-21 | F39: -16.92 | H39: =WORKDAY.INTL(EOMONTH(B39,0)+1,-1,1,'Feriados!'!Feriados) -> 46234 | I39: DESPESA | J39: SOU REEMBOLSO B3
B40: 07/07/2026 | C40: SALDO TOTAL DISPONÍVEL DIA | G40: 38127.72 | H40: =WORKDAY.INTL(EOMONTH(B40,0)+1,-1,1,'Feriados!'!Feriados) -> 46234 | I40: SALDO
B41: 08/07/2026 | C41: SISPAG FORNECEDORES | D41: SOU SECURITIZADORA S.A | E41: 62.271.128/0001-47 | F41: -5272.93 | H41: =WORKDAY.INTL(EOMONTH(B41,0)+1,-1,1,'Feriados!'!Feriados) -> 46234 | I41: DESPESA | J41: TAXA DE GESTÃO
B42: 08/07/2026 | C42: SALDO TOTAL DISPONÍVEL DIA | G42: 32854.79 | H42: =WORKDAY.INTL(EOMONTH(B42,0)+1,-1,1,'Feriados!'!Feriados) -> 46234 | I42: SALDO

Sheet Fundos
G5: Valor Inicial Fundo de Despesas | H5: 130000 | L5: Valor Inicial Fundo de Despesas Flat | M5: 346932.8
G6: Valor Mínimo | H6: 25000
F8: Fundo de Despesa | K8: Fundo de Despesas Flat
C9: Período | D9: Data de Apuração | F9: Valor Mínimo | G9: Saldo | H9: Status | I9: Valor para Recomposição | K9: Valor Mínimo | L9: Saldo | M9: Status | N9: Valor para Recomposição
C10: 1 | D10: =Fechamento!A13 -> 46188 | F10: =$H$6 -> 25000 | G10: 130183.08 | H10: =IF(G10="","-",IF(G10>=F10,"Em Conformidade","Necessária Recomposição")) -> Em Conformidade | I10: =IF(H10="-","-",IF(H10="Em Conformidade","-",F10-G10)) -> - | K10: 0 | L10: 20430.96 | M10: =IF(L10="","-",IF(L10>=K10,"Em Conformidade","Necessária Recomposição")) -> Em Conformidade | N10: =IF(M10="-","-",IF(M10="Em Conformidade","-",K10-L10)) -> -
C11: =C10+1 -> 2 | D11: =Fechamento!A14 -> 46217 | F11: =$H$6 -> 25000 | G11: 131396.65 | H11: =IF(G11="","-",IF(G11>=F11,"Em Conformidade","Necessária Recomposição")) -> Em Conformidade | I11: =IF(H11="-","-",IF(H11="Em Conformidade","-",F11-G11)) -> - | K11: 0 | L11: 0 | M11: =IF(L11="","-",IF(L11>=K11,"Em Conformidade","Necessária Recomposição")) -> Em Conformidade | N11: =IF(M11="-","-",IF(M11="Em Conformidade","-",K11-L11)) -> -
C12: =C11+1 -> 3 | D12: =Fechamento!A15 -> 46248 | F12: =$H$6 -> 25000 | H12: =IF(G12="","-",IF(G12>=F12,"Em Conformidade","Necessária Recomposição")) -> - | I12: =IF(H12="-","-",IF(H12="Em Conformidade","-",F12-G12)) -> -
C13: =C12+1 -> 4 | D13: =Fechamento!A16 -> 46280 | F13: =$H$6 -> 25000 | H13: =IF(G13="","-",IF(G13>=F13,"Em Conformidade","Necessária Recomposição")) -> - | I13: =IF(H13="-","-",IF(H13="Em Conformidade","-",F13-G13)) -> -
C14: =C13+1 -> 5 | D14: =Fechamento!A17 -> 46310 | F14: =$H$6 -> 25000 | H14: =IF(G14="","-",IF(G14>=F14,"Em Conformidade","Necessária Recomposição")) -> - | I14: =IF(H14="-","-",IF(H14="Em Conformidade","-",F14-G14)) -> -
C15: =C14+1 -> 6 | D15: =Fechamento!A18 -> 46342 | F15: =$H$6 -> 25000 | H15: =IF(G15="","-",IF(G15>=F15,"Em Conformidade","Necessária Recomposição")) -> - | I15: =IF(H15="-","-",IF(H15="Em Conformidade","-",F15-G15)) -> -
C16: =C15+1 -> 7 | D16: =Fechamento!A19 -> 46370 | F16: =$H$6 -> 25000 | H16: =IF(G16="","-",IF(G16>=F16,"Em Conformidade","Necessária Recomposição")) -> - | I16: =IF(H16="-","-",IF(H16="Em Conformidade","-",F16-G16)) -> -
C17: =C16+1 -> 8 | D17: =Fechamento!A20 -> 46402 | F17: =$H$6 -> 25000 | H17: =IF(G17="","-",IF(G17>=F17,"Em Conformidade","Necessária Recomposição")) -> - | I17: =IF(H17="-","-",IF(H17="Em Conformidade","-",F17-G17)) -> -
C18: =C17+1 -> 9 | D18: =Fechamento!A21 -> 46434 | F18: =$H$6 -> 25000 | H18: =IF(G18="","-",IF(G18>=F18,"Em Conformidade","Necessária Recomposição")) -> - | I18: =IF(H18="-","-",IF(H18="Em Conformidade","-",F18-G18)) -> -
C19: =C18+1 -> 10 | D19: =Fechamento!A22 -> 46458 | F19: =$H$6 -> 25000 | H19: =IF(G19="","-",IF(G19>=F19,"Em Conformidade","Necessária Recomposição")) -> - | I19: =IF(H19="-","-",IF(H19="Em Conformidade","-",F19-G19)) -> -
C20: =C19+1 -> 11 | D20: =Fechamento!A23 -> 46491 | F20: =$H$6 -> 25000 | H20: =IF(G20="","-",IF(G20>=F20,"Em Conformidade","Necessária Recomposição")) -> - | I20: =IF(H20="-","-",IF(H20="Em Conformidade","-",F20-G20)) -> -
C21: =C20+1 -> 12 | D21: =Fechamento!A24 -> 46521 | F21: =$H$6 -> 25000 | H21: =IF(G21="","-",IF(G21>=F21,"Em Conformidade","Necessária Recomposição")) -> - | I21: =IF(H21="-","-",IF(H21="Em Conformidade","-",F21-G21)) -> -

Sheet Despesas
M6: FLAT | R6: STATUS | S6: DATA | T6: NF Site
M7: B3 | N7: Registro da Operação | O7: 6714.5 | P7: 0 | Q7: 6714.5
M8: Atlas | N8: Estruturação | O8: 10000 | P8: 0.0565 | Q8: 10598.83 | R8: PAGO | S8: 46181 | T8: OK
M9: Nomos | N9: Originação | O9: 238638.24 | P9: 0 | Q9: 238638.24 | R9: PAGO | S9: 46178 | T9: OK
M10: Koga | N10: Assessor Legal | O10: 40000 | P10: 0 | Q10: 40000 | R10: PAGO | S10: 46171
M11: SOU | N11: Emissor + Coordenador Líder | O11: 30000 | P11: 0.1115 | Q11: 33764.77 | R11: PAGO | S11: 46175 | T11: OK
M12: OT | N12: Escriturador e Custodiante | O12: 10000 | P12: 0.1465 | Q12: 11716.46
M13: JUCESP | N13: Registro na Junta | O13: 2000 | P13: 0 | Q13: 2000
M14: Jornal | N14: Publicação ata de Emissão | O14: 3500 | P14: 0 | Q14: 3500 | R14: PAGO | S14: 46174
O15: =SUM(O7:O14) -> 340852.74 | Q15: =SUM(Q7:Q14) -> 346932.8
M18: RECORRENTE ANUAL | R18: 2026
R19: STATUS | S19: DATA | T19: NF Site
M20: CLA Audit | N20: Auditoria | O20: 3000 | P20: 0.1425 | Q20: 3498.54
M21: OT | N21: Escriturador e Custodiante | O21: 10000 | P21: 0.1465 | Q21: 11716.46 | R21: PAGO | S21: 46181
O22: =SUM(O20:O21) -> 13000 | Q22: =SUM(Q20:Q21) -> 15215
M25: RECORRENTE MENSAL | R25: 46174 | U25: 46204 | X25: 46235 | AA25: 46266
R26: STATUS | S26: DATA | T26: NF Site | U26: STATUS | V26: DATA | W26: NF Site | X26: STATUS | Y26: DATA | Z26: NF Site | AA26: STATUS | AB26: DATA | AC26: NF Site
M27: SOU | N27: Taxa de Gestão | O27: 4685 | P27: 0.1115 | Q27: 5272.93 | R27: PAGO | S27: 46175 | T27: OK
M28: Atlas | N28: Taxa de Monitoramento | O28: 1500 | P28: 0 | Q28: 1500 | R28: PAGO | S28: 46196 | T28: OK
M29: Link | N29: Contador | O29: 270 | P29: 0.0965 | Q29: 298.84 | R29: PAGO | S29: 46184
M30: Itaú | N30: Conta corrente / Banco Liq | O30: 100 | P30: 0 | Q30: 100
O31: =SUM(O27:O30) -> 6555 | Q31: =SUM(Q27:Q30) -> 7171.77

Sheet Integralizações
B5: Data | C5: Nome | D5: Quantidade | E5: Serie | F5: PU | G5: Financeiro
B6: 46170 | C6: Itauna | D6: 8714 | E6: 1 | F6: 1000 | G6: =F6*D6 -> 8714000
B7: 46170 | C7: Itauna | D7: 1536 | E7: 2 | F7: 1000 | G7: =F7*D7 -> 1536000
D8: =SUM(D6:D7) -> 10250 | G8: =SUM(G6:G7) -> 10250000

Sheet Mapa de Cláusulas
B5: Partes | J5: Contas | S5: Registro e colocação das Debêntures | AB5: Cessão | AJ5: Verificação 10º DU | AR5: AMEX Obrigatória - Cash Sweep | BA5: Ordem de Prioridade de Pagamentos | BJ5: Fundo de Despesas | BS5: Prêmio 2ªS | CA5: Evento de Aceleração | CK5: Administração dos Direitos Creditórios
J19: Notificação B3
AC81: TOTAL | AE81: CEDIDO
AB82: a) | AC82: 1147888.2 | AE82: 1147888.2
AB83: a) | AC83: 1707048.6
AB84: b) | AC84: 1147888.2 | AE84: 1147888.2
AB85: b) | AC85: 1138032.4
AB86: c) | AC86: 1147888.2 | AE86: 1147888.2
AB87: c) | AC87: 1138032.4
AB88: d) | AC88: 1147888.2 | AE88: 1147888.2
AB89: d) | AC89: 341409.71
AB90: e) | AC90: 1503744.8 | AE90: 573944.1
AB91: e) | AC91: 227606.48
AB92: f) | AC92: 3443664.6 | AE92: 3443664.6
AB93: g) | AC93: 178911.82 | AE93: 178911.82
AB94: h) | AC94: 172183.23 | AE94: 608300.19
AB95: h) | AC95: 2325853.7
AB96: i) | AC96: 2295776.4 | AE96: 1147888.2
AB97: i) | AC97: 1192745.5
AB98: j) | AC98: 357823.64 | AE98: 357823.64
AC99: =SUM(AC82:AC98) -> 20614386 | AE99: =SUM(AE82:AE98) -> 10902085

Sheet PuDiario 4E 1S
A1: Nome | B1: DEB 4E S1 (Precatório Nomos)
A2: Nome Fantasia | B2: DEB 4E S1 (Precatório Nomos)
A3: Código do Contrato CETIP | B3: SOUS14
A4: Agente Fiduciário
A5: Taxa de Juros (26/05/2026) | B5: CDI + 7.0000 % a.a.
A7: Data | B7: Valor Unitário Base | C7: Fator Correção | D7: Valor Unitário Corrigido | E7: Fator DI | F7: Fator DI Acumulado | G7: Fator Spread | H7: Fator Spread X DI | I7: Juros Esperado | J7: Juros Extra | K7: Juros Real | L7: Valor Unitário Corrigido Mais Juros (Valor Unitário Atualizado) | M7: Tai (%) | N7: Amortização Esperada | O7: Amortização Extra | P7: Amortização Real | Q7: Valor Unitário Liberação | R7: Valor Unitário Residual | S7: Quantidade | T7: Valor Total | U7: Pagamento Curva Un. | V7: Prêmio Pré-pagamento Un. | W7: Prêmio Genérico Un. | X7: Pgto. Juros Total | Y7: Pgto. Amort. Ord. (Principal) Total | Z7: Pgto. Amort. Ord. (Correção) Total | AA7: Pgto. Amex (Principal) Total | AB7: Pgto. Amex (Correção) Total | AC7: Pgto. Prêmios Total | AD7: Pgto. Total (Sem inadimpência) | AE7: Data Original Evento | AF7: Data de Vencimento do Evento | AG7: Fator Índice desde Início | AH7: DUP Correção | AI7: DUT Correção | AJ7: DUP Juros | AK7: DUT Juros | AL7: Data Do Índice Utilizado | AM7: Valor Do Índice Utilizado | AN7: Data Do Índice Utilizado (div) | AO7: Valor Do Índice Utilizado (div) | AP7: Fator Multa | AQ7: Fator Mora | AR7: Mora DUP | AS7: Mora DUT | AT7: PU do Juros Inad. p/ Multa | AU7: Multa do Juros | AV7: PU da Amort Inad. p/ Multa | AW7: Multa da Amort | AX7: PU do Juros Inad. p/ Mora | AY7: Correção Inad. Juros | AZ7: Juros sobre Inad. Juros | BA7: Mora Inad. Juros | BB7: PU da Amort Inad. p/ Mora | BC7: Correção Inad. Amort | BD7: Juros sobre Inad. Amort | BE7: Mora Inad. Amort | BF7: Pgto. Multa Juros | BG7: Pgto. Multa Amort | BH7: Pgto. Mora Juros | BI7: Pgto. Mora Amort | BJ7: Pgto. Juros sobre Juros Inad. | BK7: Pgto. Juros sobre Amort Inad. | BL7: Pgto. Correção Juros Inad. | BM7: Pgto. Correção Amort Inad. | BN7: Pgto. Principal Juros Inad. | BO7: Pgto. Principal Amort Inad. | BP7: Pgto. Total | BQ7: Houve Incorporação de Juros?
A8: 46168 | B8: 1000 | D8: 1000 | E8: 1 | F8: 1 | G8: 0 | H8: 0 | I8: 0 | J8: 0 | K8: 0 | L8: 1000 | M8: 0 | N8: 0 | O8: 0 | P8: 0 | Q8: 0 | R8: 1000 | S8: 0 | T8: 0 | U8: 0 | V8: 0 | W8: 0 | X8: 0 | Y8: 0 | Z8: 0 | AA8: 0 | AB8: 0 | AC8: 0 | AD8: 0 | AG8: 0 | AH8: 0 | AI8: 0 | AJ8: 0 | AK8: 0 | AL8: 46164 | AM8: 14.4 | AP8: 0 | AQ8: 0 | AR8: 0 | AS8: 0 | AT8: 0 | AU8: 0 | AV8: 0 | AW8: 0 | AX8: 0 | AY8: 0 | AZ8: 0 | BA8: 0 | BB8: 0 | BC8: 0 | BD8: 0 | BE8: 0 | BF8: 0 | BG8: 0 | BH8: 0 | BI8: 0 | BJ8: 0 | BK8: 0 | BL8: 0 | BM8: 0 | BN8: 0 | BO8: 0 | BP8: 0 | BQ8: Não
A9: 46169 | B9: 1000 | D9: 1000 | E9: 1.000534 | F9: 1.000534 | G9: 1.0002685 | H9: 1.0008027 | I9: 0.802666 | J9: 0 | K9: 0.802666 | L9: 1000.8027 | N9: 0 | O9: 0 | P9: 0 | Q9: 0 | R9: 1000.8027 | S9: 0 | T9: 0 | U9: 0 | V9: 0 | W9: 0 | X9: 0 | Y9: 0 | Z9: 0 | AA9: 0 | AB9: 0 | AC9: 0 | AD9: 0 | AG9: 0 | AH9: 0 | AI9: 0 | AJ9: 1 | AK9: 252 | AL9: 46167 | AM9: 14.4 | AP9: 0 | AQ9: 0 | AR9: 0 | AS9: 0 | AT9: 0 | AU9: 0 | AV9: 0 | AW9: 0 | AX9: 0 | AY9: 0 | AZ9: 0 | BA9: 0 | BB9: 0 | BC9: 0 | BD9: 0 | BE9: 0 | BF9: 0 | BG9: 0 | BH9: 0 | BI9: 0 | BJ9: 0 | BK9: 0 | BL9: 0 | BM9: 0 | BN9: 0 | BO9: 0 | BP9: 0 | BQ9: Não
A10: 46170 | B10: 1000 | D10: 1000 | E10: 1.000534 | F10: 1.0010683 | G10: 1.0005371 | H10: 1.001606 | I10: 1.605982 | J10: 0 | K10: 1.605982 | L10: 1001.606 | N10: 0 | O10: 0 | P10: 0 | Q10: 0 | R10: 1001.606 | S10: 8714 | T10: 8727994.5 | U10: 0 | V10: 0 | W10: 0 | X10: 0 | Y10: 0 | Z10: 0 | AA10: 0 | AB10: 0 | AC10: 0 | AD10: 0 | AG10: 0 | AH10: 0 | AI10: 0 | AJ10: 2 | AK10: 252 | AL10: 46168 | AM10: 14.4 | AP10: 0 | AQ10: 0 | AR10: 0 | AS10: 0 | AT10: 0 | AU10: 0 | AV10: 0 | AW10: 0 | AX10: 0 | AY10: 0 | AZ10: 0 | BA10: 0 | BB10: 0 | BC10: 0 | BD10: 0 | BE10: 0 | BF10: 0 | BG10: 0 | BH10: 0 | BI10: 0 | BJ10: 0 | BK10: 0 | BL10: 0 | BM10: 0 | BN10: 0 | BO10: 0 | BP10: 0 | BQ10: Não
A11: 46171 | B11: 1000 | D11: 1000 | E11: 1.000534 | F11: 1.0016029 | G11: 1.0008058 | H11: 1.0024099 | I11: 2.409937 | J11: 0 | K11: 2.409937 | L11: 1002.4099 | N11: 0 | O11: 0 | P11: 0 | Q11: 0 | R11: 1002.4099 | S11: 8714 | T11: 8735000.2 | U11: 0 | V11: 0 | W11: 0 | X11: 0 | Y11: 0 | Z11: 0 | AA11: 0 | AB11: 0 | AC11: 0 | AD11: 0 | AG11: 0 | AH11: 0 | AI11: 0 | AJ11: 3 | AK11: 252 | AL11: 46169 | AM11: 14.4 | AP11: 0 | AQ11: 0 | AR11: 0 | AS11: 0 | AT11: 0 | AU11: 0 | AV11: 0 | AW11: 0 | AX11: 0 | AY11: 0 | AZ11: 0 | BA11: 0 | BB11: 0 | BC11: 0 | BD11: 0 | BE11: 0 | BF11: 0 | BG11: 0 | BH11: 0 | BI11: 0 | BJ11: 0 | BK11: 0 | BL11: 0 | BM11: 0 | BN11: 0 | BO11: 0 | BP11: 0 | BQ11: Não
A12: 46172 | B12: 1000 | D12: 1000 | E12: 1 | F12: 1.0016029 | G12: 1.0008058 | H12: 1.0024099 | I12: 2.409937 | J12: 0 | K12: 2.409937 | L12: 1002.4099 | N12: 0 | O12: 0 | P12: 0 | Q12: 0 | R12: 1002.4099 | S12: 8714 | T12: 8735000.2 | U12: 0 | V12: 0 | W12: 0 | X12: 0 | Y12: 0 | Z12: 0 | AA12: 0 | AB12: 0 | AC12: 0 | AD12: 0 | AG12: 0 | AH12: 0 | AI12: 0 | AJ12: 3 | AK12: 252 | AL12: 46170 | AM12: 14.4 | AP12: 0 | AQ12: 0 | AR12: 0 | AS12: 0 | AT12: 0 | AU12: 0 | AV12: 0 | AW12: 0 | AX12: 0 | AY12: 0 | AZ12: 0 | BA12: 0 | BB12: 0 | BC12: 0 | BD12: 0 | BE12: 0 | BF12: 0 | BG12: 0 | BH12: 0 | BI12: 0 | BJ12: 0 | BK12: 0 | BL12: 0 | BM12: 0 | BN12: 0 | BO12: 0 | BP12: 0 | BQ12: Não
A13: 46173 | B13: 1000 | D13: 1000 | E13: 1 | F13: 1.0016029 | G13: 1.0008058 | H13: 1.0024099 | I13: 2.409937 | J13: 0 | K13: 2.409937 | L13: 1002.4099 | N13: 0 | O13: 0 | P13: 0 | Q13: 0 | R13: 1002.4099 | S13: 8714 | T13: 8735000.2 | U13: 0 | V13: 0 | W13: 0 | X13: 0 | Y13: 0 | Z13: 0 | AA13: 0 | AB13: 0 | AC13: 0 | AD13: 0 | AG13: 0 | AH13: 0 | AI13: 0 | AJ13: 3 | AK13: 252 | AL13: 46170 | AM13: 14.4 | AP13: 0 | AQ13: 0 | AR13: 0 | AS13: 0 | AT13: 0 | AU13: 0 | AV13: 0 | AW13: 0 | AX13: 0 | AY13: 0 | AZ13: 0 | BA13: 0 | BB13: 0 | BC13: 0 | BD13: 0 | BE13: 0 | BF13: 0 | BG13: 0 | BH13: 0 | BI13: 0 | BJ13: 0 | BK13: 0 | BL13: 0 | BM13: 0 | BN13: 0 | BO13: 0 | BP13: 0 | BQ13: Não
A14: 46174 | B14: 1000 | D14: 1000 | E14: 1.000534 | F14: 1.0021377 | G14: 1.0010745 | H14: 1.0032145 | I14: 3.214531 | J14: 0 | K14: 3.214531 | L14: 1003.2145 | N14: 0 | O14: 0 | P14: 0 | Q14: 0 | R14: 1003.2145 | S14: 8714 | T14: 8742011.4 | U14: 0 | V14: 0 | W14: 0 | X14: 0 | Y14: 0 | Z14: 0 | AA14: 0 | AB14: 0 | AC14: 0 | AD14: 0 | AG14: 0 | AH14: 0 | AI14: 0 | AJ14: 4 | AK14: 252 | AL14: 46170 | AM14: 14.4 | AP14: 0 | AQ14: 0 | AR14: 0 | AS14: 0 | AT14: 0 | AU14: 0 | AV14: 0 | AW14: 0 | AX14: 0 | AY14: 0 | AZ14: 0 | BA14: 0 | BB14: 0 | BC14: 0 | BD14: 0 | BE14: 0 | BF14: 0 | BG14: 0 | BH14: 0 | BI14: 0 | BJ14: 0 | BK14: 0 | BL14: 0 | BM14: 0 | BN14: 0 | BO14: 0 | BP14: 0 | BQ14: Não
A15: 46175 | B15: 1000 | D15: 1000 | E15: 1.000534 | F15: 1.0026729 | G15: 1.0013433 | H15: 1.0040198 | I15: 4.019776 | J15: 0 | K15: 4.019776 | L15: 1004.0198 | N15: 0 | O15: 0 | P15: 0 | Q15: 0 | R15: 1004.0198 | S15: 8714 | T15: 8749028.3 | U15: 0 | V15: 0 | W15: 0 | X15: 0 | Y15: 0 | Z15: 0 | AA15: 0 | AB15: 0 | AC15: 0 | AD15: 0 | AG15: 0 | AH15: 0 | AI15: 0 | AJ15: 5 | AK15: 252 | AL15: 46171 | AM15: 14.4 | AP15: 0 | AQ15: 0 | AR15: 0 | AS15: 0 | AT15: 0 | AU15: 0 | AV15: 0 | AW15: 0 | AX15: 0 | AY15: 0 | AZ15: 0 | BA15: 0 | BB15: 0 | BC15: 0 | BD15: 0 | BE15: 0 | BF15: 0 | BG15: 0 | BH15: 0 | BI15: 0 | BJ15: 0 | BK15: 0 | BL15: 0 | BM15: 0 | BN15: 0 | BO15: 0 | BP15: 0 | BQ15: Não
A16: 46176 | B16: 1000 | D16: 1000 | E16: 1.000534 | F16: 1.0032083 | G16: 1.0016122 | H16: 1.0048257 | I16: 4.82567 | J16: 0 | K16: 4.82567 | L16: 1004.8257 | N16: 0 | O16: 0 | P16: 0 | Q16: 0 | R16: 1004.8257 | S16: 8714 | T16: 8756050.9 | U16: 0 | V16: 0 | W16: 0 | X16: 0 | Y16: 0 | Z16: 0 | AA16: 0 | AB16: 0 | AC16: 0 | AD16: 0 | AG16: 0 | AH16: 0 | AI16: 0 | AJ16: 6 | AK16: 252 | AL16: 46174 | AM16: 14.4 | AP16: 0 | AQ16: 0 | AR16: 0 | AS16: 0 | AT16: 0 | AU16: 0 | AV16: 0 | AW16: 0 | AX16: 0 | AY16: 0 | AZ16: 0 | BA16: 0 | BB16: 0 | BC16: 0 | BD16: 0 | BE16: 0 | BF16: 0 | BG16: 0 | BH16: 0 | BI16: 0 | BJ16: 0 | BK16: 0 | BL16: 0 | BM16: 0 | BN16: 0 | BO16: 0 | BP16: 0 | BQ16: Não
A17: 46177 | B17: 1000 | D17: 1000 | E17: 1 | F17: 1.0032083 | G17: 1.0016122 | H17: 1.0048257 | I17: 4.82567 | J17: 0 | K17: 4.82567 | L17: 1004.8257 | N17: 0 | O17: 0 | P17: 0 | Q17: 0 | R17: 1004.8257 | S17: 8714 | T17: 8756050.9 | U17: 0 | V17: 0 | W17: 0 | X17: 0 | Y17: 0 | Z17: 0 | AA17: 0 | AB17: 0 | AC17: 0 | AD17: 0 | AG17: 0 | AH17: 0 | AI17: 0 | AJ17: 6 | AK17: 252 | AL17: 46175 | AM17: 14.4 | AP17: 0 | AQ17: 0 | AR17: 0 | AS17: 0 | AT17: 0 | AU17: 0 | AV17: 0 | AW17: 0 | AX17: 0 | AY17: 0 | AZ17: 0 | BA17: 0 | BB17: 0 | BC17: 0 | BD17: 0 | BE17: 0 | BF17: 0 | BG17: 0 | BH17: 0 | BI17: 0 | BJ17: 0 | BK17: 0 | BL17: 0 | BM17: 0 | BN17: 0 | BO17: 0 | BP17: 0 | BQ17: Não
A18: 46178 | B18: 1000 | D18: 1000 | E18: 1.000534 | F18: 1.003744 | G18: 1.0018812 | H18: 1.0056322 | I18: 5.632207 | J18: 0 | K18: 5.632207 | L18: 1005.6322 | N18: 0 | O18: 0 | P18: 0 | Q18: 0 | R18: 1005.6322 | S18: 8714 | T18: 8763079.1 | U18: 0 | V18: 0 | W18: 0 | X18: 0 | Y18: 0 | Z18: 0 | AA18: 0 | AB18: 0 | AC18: 0 | AD18: 0 | AG18: 0 | AH18: 0 | AI18: 0 | AJ18: 7 | AK18: 252 | AL18: 46175 | AM18: 14.4 | AP18: 0 | AQ18: 0 | AR18: 0 | AS18: 0 | AT18: 0 | AU18: 0 | AV18: 0 | AW18: 0 | AX18: 0 | AY18: 0 | AZ18: 0 | BA18: 0 | BB18: 0 | BC18: 0 | BD18: 0 | BE18: 0 | BF18: 0 | BG18: 0 | BH18: 0 | BI18: 0 | BJ18: 0 | BK18: 0 | BL18: 0 | BM18: 0 | BN18: 0 | BO18: 0 | BP18: 0 | BQ18: Não
A19: 46179 | B19: 1000 | D19: 1000 | E19: 1 | F19: 1.003744 | G19: 1.0018812 | H19: 1.0056322 | I19: 5.632207 | J19: 0 | K19: 5.632207 | L19: 1005.6322 | N19: 0 | O19: 0 | P19: 0 | Q19: 0 | R19: 1005.6322 | S19: 8714 | T19: 8763079.1 | U19: 0 | V19: 0 | W19: 0 | X19: 0 | Y19: 0 | Z19: 0 | AA19: 0 | AB19: 0 | AC19: 0 | AD19: 0 | AG19: 0 | AH19: 0 | AI19: 0 | AJ19: 7 | AK19: 252 | AL19: 46176 | AM19: 14.4 | AP19: 0 | AQ19: 0 | AR19: 0 | AS19: 0 | AT19: 0 | AU19: 0 | AV19: 0 | AW19: 0 | AX19: 0 | AY19: 0 | AZ19: 0 | BA19: 0 | BB19: 0 | BC19: 0 | BD19: 0 | BE19: 0 | BF19: 0 | BG19: 0 | BH19: 0 | BI19: 0 | BJ19: 0 | BK19: 0 | BL19: 0 | BM19: 0 | BN19: 0 | BO19: 0 | BP19: 0 | BQ19: Não
A20: 46180 | B20: 1000 | D20: 1000 | E20: 1 | F20: 1.003744 | G20: 1.0018812 | H20: 1.0056322 | I20: 5.632207 | J20: 0 | K20: 5.632207 | L20: 1005.6322 | N20: 0 | O20: 0 | P20: 0 | Q20: 0 | R20: 1005.6322 | S20: 8714 | T20: 8763079.1 | U20: 0 | V20: 0 | W20: 0 | X20: 0 | Y20: 0 | Z20: 0 | AA20: 0 | AB20: 0 | AC20: 0 | AD20: 0 | AG20: 0 | AH20: 0 | AI20: 0 | AJ20: 7 | AK20: 252 | AL20: 46176 | AM20: 14.4 | AP20: 0 | AQ20: 0 | AR20: 0 | AS20: 0 | AT20: 0 | AU20: 0 | AV20: 0 | AW20: 0 | AX20: 0 | AY20: 0 | AZ20: 0 | BA20: 0 | BB20: 0 | BC20: 0 | BD20: 0 | BE20: 0 | BF20: 0 | BG20: 0 | BH20: 0 | BI20: 0 | BJ20: 0 | BK20: 0 | BL20: 0 | BM20: 0 | BN20: 0 | BO20: 0 | BP20: 0 | BQ20: Não
... A38: 46198 | B38: 1000 | D38: 1000 | E38: 1.0005253 | F38: 1.011239 | G38: 1.0056541 | H38: 1.0169566 | I38: 16.956642 | J38: 0 | K38: 16.956642 | L38: 1016.9566 | N38: 0 | O38: 0 | P38: 0 | Q38: 0 | R38: 1016.9566 | S38: 8714 | T38: 8861760.2 | U38: 0 | V38: 0 | W38: 0 | X38: 0 | Y38: 0 | Z38: 0 | AA38: 0 | AB38: 0 | AC38: 0 | AD38: 0 | AG38: 0 | AH38: 0 | AI38: 0 | AJ38: 21 | AK38: 252 | AL38: 46196 | AM38: 14.15 | AP38: 0 | AQ38: 0 | AR38: 0 | AS38: 0 | AT38: 0 | AU38: 0 | AV38: 0 | AW38: 0 | AX38: 0 | AY38: 0 | AZ38: 0 | BA38: 0 | BB38: 0 | BC38: 0 | BD38: 0 | BE38: 0 | BF38: 0 | BG38: 0 | BH38: 0 | BI38: 0 | BJ38: 0 | BK38: 0 | BL38: 0 | BM38: 0 | BN38: 0 | BO38: 0 | BP38: 0 | BQ38: Não
A39: 46199 | B39: 1000 | D39: 1000 | E39: 1.0005253 | F39: 1.0117702 | G39: 1.0059242 | H39: 1.0177641 | I39: 17.764085 | J39: 0 | K39: 17.764085 | L39: 1017.7641 | M39: 0 | N39: 0 | O39: 0 | P39: 0 | Q39: 0 | R39: 1017.7641 | S39: 8714 | T39: 8868796.2 | U39: 0 | V39: 0 | W39: 0 | X39: 0 | Y39: 0 | Z39: 0 | AA39: 0 | AB39: 0 | AC39: 0 | AD39: 0 | AG39: 0 | AH39: 0 | AI39: 0 | AJ39: 22 | AK39: 252 | AL39: 46197 | AM39: 14.15 | AP39: 0 | AQ39: 0 | AR39: 0 | AS39: 0 | AT39: 0 | AU39: 0 | AV39: 0 | AW39: 0 | AX39: 0 | AY39: 0 | AZ39: 0 | BA39: 0 | BB39: 0 | BC39: 0 | BD39: 0 | BE39: 0 | BF39: 0 | BG39: 0 | BH39: 0 | BI39: 0 | BJ39: 0 | BK39: 0 | BL39: 0 | BM39: 0 | BN39: 0 | BO39: 0 | BP39: 0 | BQ39: Sim
A40: 46200 | B40: 1017.7641 | D40: 1017.7641 | E40: 1 | F40: 1 | G40: 1 | H40: 1 | I40: 0 | J40: 0 | K40: 0 | L40: 1017.7641 | N40: 0 | O40: 0 | P40: 0 | Q40: 0 | R40: 1017.7641 | S40: 8714 | T40: 8868796.2 | U40: 0 | V40: 0 | W40: 0 | X40: 0 | Y40: 0 | Z40: 0 | AA40: 0 | AB40: 0 | AC40: 0 | AD40: 0 | AG40: 0 | AH40: 0 | AI40: 0 | AJ40: 0 | AK40: 252 | AL40: 46198 | AM40: 14.15 | AP40: 0 | AQ40: 0 | AR40: 0 | AS40: 0 | AT40: 0 | AU40: 0 | AV40: 0 | AW40: 0 | AX40: 0 | AY40: 0 | AZ40: 0 | BA40: 0 | BB40: 0 | BC40: 0 | BD40: 0 | BE40: 0 | BF40: 0 | BG40: 0 | BH40: 0 | BI40: 0 | BJ40: 0 | BK40: 0 | BL40: 0 | BM40: 0 | BN40: 0 | BO40: 0 | BP40: 0 | BQ40: Não
A41: 46201 | B41: 1017.7641 | D41: 1017.7641 | E41: 1 | F41: 1 | G41: 1 | H41: 1 | I41: 0 | J41: 0 | K41: 0 | L41: 1017.7641 | N41: 0 | O41: 0 | P41: 0 | Q41: 0 | R41: 1017.7641 | S41: 8714 | T41: 8868796.2 | U41: 0 | V41: 0 | W41: 0 | X41: 0 | Y41: 0 | Z41: 0 | AA41: 0 | AB41: 0 | AC41: 0 | AD41: 0 | AG41: 0 | AH41: 0 | AI41: 0 | AJ41: 0 | AK41: 252 | AL41: 46198 | AM41: 14.15 | AP41: 0 | AQ41: 0 | AR41: 0 | AS41: 0 | AT41: 0 | AU41: 0 | AV41: 0 | AW41: 0 | AX41: 0 | AY41: 0 | AZ41: 0 | BA41: 0 | BB41: 0 | BC41: 0 | BD41: 0 | BE41: 0 | BF41: 0 | BG41: 0 | BH41: 0 | BI41: 0 | BJ41: 0 | BK41: 0 | BL41: 0 | BM41: 0 | BN41: 0 | BO41: 0 | BP41: 0 | BQ41: Não
A42: 46202 | B42: 1017.7641 | D42: 1017.7641 | E42: 1.0005253 | F42: 1.0005253 | G42: 1.0002685 | H42: 1.000794 | I42: 0.80807822 | J42: 0 | K42: 0.80807822 | L42: 1018.5722 | N42: 0 | O42: 0 | P42: 0 | Q42: 0 | R42: 1018.5722 | S42: 8714 | T42: 8875837.8 | U42: 0 | V42: 0 | W42: 0 | X42: 0 | Y42: 0 | Z42: 0 | AA42: 0 | AB42: 0 | AC42: 0 | AD42: 0 | AG42: 0 | AH42: 0 | AI42: 0 | AJ42: 1 | AK42: 252 | AL42: 46198 | AM42: 14.15 | AP42: 0 | AQ42: 0 | AR42: 0 | AS42: 0 | AT42: 0 | AU42: 0 | AV42: 0 | AW42: 0 | AX42: 0 | AY42: 0 | AZ42: 0 | BA42: 0 | BB42: 0 | BC42: 0 | BD42: 0 | BE42: 0 | BF42: 0 | BG42: 0 | BH42: 0 | BI42: 0 | BJ42: 0 | BK42: 0 | BL42: 0 | BM42: 0 | BN42: 0 | BO42: 0 | BP42: 0 | BQ42: Não
A43: 46203 | B43: 1017.7641 | D43: 1017.7641 | E43: 1.0005253 | F43: 1.0010509 | G43: 1.0005371 | H43: 1.0015886 | I43: 1.6168017 | J43: 0 | K43: 1.6168017 | L43: 1019.3809 | N43: 0 | O43: 0 | P43: 0 | Q43: 0 | R43: 1019.3809 | S43: 8714 | T43: 8882885 | U43: 0 | V43: 0 | W43: 0 | X43: 0 | Y43: 0 | Z43: 0 | AA43: 0 | AB43: 0 | AC43: 0 | AD43: 0 | AG43: 0 | AH43: 0 | AI43: 0 | AJ43: 2 | AK43: 252 | AL43: 46199 | AM43: 14.15 | AP43: 0 | AQ43: 0 | AR43: 0 | AS43: 0 | AT43: 0 | AU43: 0 | AV43: 0 | AW43: 0 | AX43: 0 | AY43: 0 | AZ43: 0 | BA43: 0 | BB43: 0 | BC43: 0 | BD43: 0 | BE43: 0 | BF43: 0 | BG43: 0 | BH43: 0 | BI43: 0 | BJ43: 0 | BK43: 0 | BL43: 0 | BM43: 0 | BN43: 0 | BO43: 0 | BP43: 0 | BQ43: Não
A44: 46204 | B44: 1017.7641 | D44: 1017.7641 | E44: 1.0005253 | F44: 1.0015768 | G44: 1.0008058 | H44: 1.0023838 | I44: 2.4261623 | J44: 0 | K44: 2.4261623 | L44: 1020.1902 | N44: 0 | O44: 0 | P44: 0 | Q44: 0 | R44: 1020.1902 | S44: 8714 | T44: 8889937.8 | U44: 0 | V44: 0 | W44: 0 | X44: 0 | Y44: 0 | Z44: 0 | AA44: 0 | AB44: 0 | AC44: 0 | AD44: 0 | AG44: 0 | AH44: 0 | AI44: 0 | AJ44: 3 | AK44: 252 | AL44: 46202 | AM44: 14.15 | AP44: 0 | AQ44: 0 | AR44: 0 | AS44: 0 | AT44: 0 | AU44: 0 | AV44: 0 | AW44: 0 | AX44: 0 | AY44: 0 | AZ44: 0 | BA44: 0 | BB44: 0 | BC44: 0 | BD44: 0 | BE44: 0 | BF44: 0 | BG44: 0 | BH44: 0 | BI44: 0 | BJ44: 0 | BK44: 0 | BL44: 0 | BM44: 0 | BN44: 0 | BO44: 0 | BP44: 0 | BQ44: Não
A45: 46205 | B45: 1017.7641 | D45: 1017.7641 | E45: 1.0005253 | F45: 1.0021029 | G45: 1.0010745 | H45: 1.0031797 | I45: 3.2361682 | J45: 0 | K45: 3.2361682 | L45: 1021.0003 | N45: 0 | O45: 0 | P45: 0 | Q45: 0 | R45: 1021.0003 | S45: 8714 | T45: 8896996.2 | U45: 0 | V45: 0 | W45: 0 | X45: 0 | Y45: 0 | Z45: 0 | AA45: 0 | AB45: 0 | AC45: 0 | AD45: 0 | AG45: 0 | AH45: 0 | AI45: 0 | AJ45: 4 | AK45: 252 | AL45: 46203 | AM45: 14.15 | AP45: 0 | AQ45: 0 | AR45: 0 | AS45: 0 | AT45: 0 | AU45: 0 | AV45: 0 | AW45: 0 | AX45: 0 | AY45: 0 | AZ45: 0 | BA45: 0 | BB45: 0 | BC45: 0 | BD45: 0 | BE45: 0 | BF45: 0 | BG45: 0 | BH45: 0 | BI45: 0 | BJ45: 0 | BK45: 0 | BL45: 0 | BM45: 0 | BN45: 0 | BO45: 0 | BP45: 0 | BQ45: Não
A46: 46206 | B46: 1017.7641 | D46: 1017.7641 | E46: 1.0005253 | F46: 1.0026293 | G46: 1.0013433 | H46: 1.0039762 | I46: 4.0468101 | J46: 0 | K46: 4.0468101 | L46: 1021.8109 | N46: 0 | O46: 0 | P46: 0 | Q46: 0 | R46: 1021.8109 | S46: 8714 | T46: 8904060.1 | U46: 0 | V46: 0 | W46: 0 | X46: 0 | Y46: 0 | Z46: 0 | AA46: 0 | AB46: 0 | AC46: 0 | AD46: 0 | AG46: 0 | AH46: 0 | AI46: 0 | AJ46: 5 | AK46: 252 | AL46: 46204 | AM46: 14.15 | AP46: 0 | AQ46: 0 | AR46: 0 | AS46: 0 | AT46: 0 | AU46: 0 | AV46: 0 | AW46: 0 | AX46: 0 | AY46: 0 | AZ46: 0 | BA46: 0 | BB46: 0 | BC46: 0 | BD46: 0 | BE46: 0 | BF46: 0 | BG46: 0 | BH46: 0 | BI46: 0 | BJ46: 0 | BK46: 0 | BL46: 0 | BM46: 0 | BN46: 0 | BO46: 0 | BP46: 0 | BQ46: Não
A47: 46207 | B47: 1017.7641 | D47: 1017.7641 | E47: 1 | F47: 1.0026293 | G47: 1.0013433 | H47: 1.0039762 | I47: 4.0468101 | J47: 0 | K47: 4.0468101 | L47: 1021.8109 | N47: 0 | O47: 0 | P47: 0 | Q47: 0 | R47: 1021.8109 | S47: 8714 | T47: 8904060.1 | U47: 0 | V47: 0 | W47: 0 | X47: 0 | Y47: 0 | Z47: 0 | AA47: 0 | AB47: 0 | AC47: 0 | AD47: 0 | AG47: 0 | AH47: 0 | AI47: 0 | AJ47: 5 | AK47: 252 | AL47: 46205 | AM47: 14.15 | AP47: 0 | AQ47: 0 | AR47: 0 | AS47: 0 | AT47: 0 | AU47: 0 | AV47: 0 | AW47: 0 | AX47: 0 | AY47: 0 | AZ47: 0 | BA47: 0 | BB47: 0 | BC47: 0 | BD47: 0 | BE47: 0 | BF47: 0 | BG47: 0 | BH47: 0 | BI47: 0 | BJ47: 0 | BK47: 0 | BL47: 0 | BM47: 0 | BN47: 0 | BO47: 0 | BP47: 0 | BQ47: Não
A48: 46208 | B48: 1017.7641 | D48: 1017.7641 | E48: 1 | F48: 1.0026293 | G48: 1.0013433 | H48: 1.0039762 | I48: 4.0468101 | J48: 0 | K48: 4.0468101 | L48: 1021.8109 | N48: 0 | O48: 0 | P48: 0 | Q48: 0 | R48: 1021.8109 | S48: 8714 | T48: 8904060.1 | U48: 0 | V48: 0 | W48: 0 | X48: 0 | Y48: 0 | Z48: 0 | AA48: 0 | AB48: 0 | AC48: 0 | AD48: 0 | AG48: 0 | AH48: 0 | AI48: 0 | AJ48: 5 | AK48: 252 | AL48: 46205 | AM48: 14.15 | AP48: 0 | AQ48: 0 | AR48: 0 | AS48: 0 | AT48: 0 | AU48: 0 | AV48: 0 | AW48: 0 | AX48: 0 | AY48: 0 | AZ48: 0 | BA48: 0 | BB48: 0 | BC48: 0 | BD48: 0 | BE48: 0 | BF48: 0 | BG48: 0 | BH48: 0 | BI48: 0 | BJ48: 0 | BK48: 0 | BL48: 0 | BM48: 0 | BN48: 0 | BO48: 0 | BP48: 0 | BQ48: Não
A49: 46209 | B49: 1017.7641 | D49: 1017.7641 | E49: 1.0005253 | F49: 1.003156 | G49: 1.0016122 | H49: 1.0047733 | I49: 4.8580994 | J49: 0 | K49: 4.8580994 | L49: 1022.6222 | N49: 0 | O49: 0 | P49: 0 | Q49: 0 | R49: 1022.6222 | S49: 8714 | T49: 8911129.7 | U49: 0 | V49: 0 | W49: 0 | X49: 0 | Y49: 0 | Z49: 0 | AA49: 0 | AB49: 0 | AC49: 0 | AD49: 0 | AG49: 0 | AH49: 0 | AI49: 0 | AJ49: 6 | AK49: 252 | AL49: 46205 | AM49: 14.15 | AP49: 0 | AQ49: 0 | AR49: 0 | AS49: 0 | AT49: 0 | AU49: 0 | AV49: 0 | AW49: 0 | AX49: 0 | AY49: 0 | AZ49: 0 | BA49: 0 | BB49: 0 | BC49: 0 | BD49: 0 | BE49: 0 | BF49: 0 | BG49: 0 | BH49: 0 | BI49: 0 | BJ49: 0 | BK49: 0 | BL49: 0 | BM49: 0 | BN49: 0 | BO49: 0 | BP49: 0 | BQ49: Não
A50: 46210 | B50: 1017.7641 | D50: 1017.7641 | E50: 1.0005253 | F50: 1.003683 | G50: 1.0018812 | H50: 1.0055711 | I50: 5.670037 | J50: 0 | K50: 5.670037 | L50: 1023.4341 | N50: 0 | O50: 0 | P50: 0 | Q50: 0 | R50: 1023.4341 | S50: 8714 | T50: 8918204.9 | U50: 0 | V50: 0 | W50: 0 | X50: 0 | Y50: 0 | Z50: 0 | AA50: 0 | AB50: 0 | AC50: 0 | AD50: 0 | AG50: 0 | AH50: 0 | AI50: 0 | AJ50: 7 | AK50: 252 | AL50: 46206 | AM50: 14.15 | AP50: 0 | AQ50: 0 | AR50: 0 | AS50: 0 | AT50: 0 | AU50: 0 | AV50: 0 | AW50: 0 | AX50: 0 | AY50: 0 | AZ50: 0 | BA50: 0 | BB50: 0 | BC50: 0 | BD50: 0 | BE50: 0 | BF50: 0 | BG50: 0 | BH50: 0 | BI50: 0 | BJ50: 0 | BK50: 0 | BL50: 0 | BM50: 0 | BN50: 0 | BO50: 0 | BP50: 0 | BQ50: Não
A51: 46211 | B51: 1017.7641 | D51: 1017.7641 | E51: 1.0005253 | F51: 1.0042102 | G51: 1.0021502 | H51: 1.0063695 | I51: 6.4826127 | J51: 0 | K51: 6.4826127 | L51: 1024.2467 | N51: 0 | O51: 0 | P51: 0 | Q51: 0 | R51: 1024.2467 | S51: 8714 | T51: 8925285.7 | U51: 0 | V51: 0 | W51: 0 | X51: 0 | Y51: 0 | Z51: 0 | AA51: 0 | AB51: 0 | AC51: 0 | AD51: 0 | AG51: 0 | AH51: 0 | AI51: 0 | AJ51: 8 | AK51: 252 | AL51: 46209 | AM51: 14.15 | AP51: 0 | AQ51: 0 | AR51: 0 | AS51: 0 | AT51: 0 | AU51: 0 | AV51: 0 | AW51: 0 | AX51: 0 | AY51: 0 | AZ51: 0 | BA51: 0 | BB51: 0 | BC51: 0 | BD51: 0 | BE51: 0 | BF51: 0 | BG51: 0 | BH51: 0 | BI51: 0 | BJ51: 0 | BK51: 0 | BL51: 0 | BM51: 0 | BN51: 0 | BO51: 0 | BP51: 0 | BQ51: Não
... A57: 46217 | B57: 1017.7641 | D57: 1017.7641 | E57: 1.0005253 | F57: 1.006322 | G57: 1.003227 | H57: 1.0095694 | I57: 9.7393886 | J57: 0 | K57: 9.7393886 | L57: 1027.5035 | N57: 0 | O57: 0 | P57: 0 | Q57: 0 | R57: 1027.5035 | S57: 8714 | T57: 8953665.3 | U57: 0 | V57: 0 | W57: 0 | X57: 0 | Y57: 0 | Z57: 0 | AA57: 0 | AB57: 0 | AC57: 0 | AD57: 0 | AG57: 0 | AH57: 0 | AI57: 0 | AJ57: 12 | AK57: 252 | AL57: 46213 | AM57: 14.15 | AP57: 0 | AQ57: 0 | AR57: 0 | AS57: 0 | AT57: 0 | AU57: 0 | AV57: 0 | AW57: 0 | AX57: 0 | AY57: 0 | AZ57: 0 | BA57: 0 | BB57: 0 | BC57: 0 | BD57: 0 | BE57: 0 | BF57: 0 | BG57: 0 | BH57: 0 | BI57: 0 | BJ57: 0 | BK57: 0 | BL57: 0 | BM57: 0 | BN57: 0 | BO57: 0 | BP57: 0 | BQ57: Não
A58: 46218 | B58: 1017.7641 | D58: 1017.7641 | E58: 1.0005253 | F58: 1.0068506 | G58: 1.0034964 | H58: 1.010371 | I58: 10.555209 | J58: 0 | K58: 10.555209 | L58: 1028.3193 | N58: 0 | O58: 0 | P58: 0 | Q58: 0 | R58: 1028.3193 | S58: 8714 | T58: 8960774.3 | U58: 0 | V58: 0 | W58: 0 | X58: 0 | Y58: 0 | Z58: 0 | AA58: 0 | AB58: 0 | AC58: 0 | AD58: 0 | AG58: 0 | AH58: 0 | AI58: 0 | AJ58: 13 | AK58: 252 | AP58: 0 | AQ58: 0 | AR58: 0 | AS58: 0 | AT58: 0 | AU58: 0 | AV58: 0 | AW58: 0 | AX58: 0 | AY58: 0 | AZ58: 0 | BA58: 0 | BB58: 0 | BC58: 0 | BD58: 0 | BE58: 0 | BF58: 0 | BG58: 0 | BH58: 0 | BI58: 0 | BJ58: 0 | BK58: 0 | BL58: 0 | BM58: 0 | BN58: 0 | BO58: 0 | BP58: 0 | BQ58: Não
A59: 46219 | B59: 1017.7641 | D59: 1017.7641 | E59: 1.0005253 | F59: 1.0073795 | G59: 1.0037659 | H59: 1.0111732 | I59: 11.371658 | J59: 0 | K59: 11.371658 | L59: 1029.1357 | N59: 0 | O59: 0 | P59: 0 | Q59: 0 | R59: 1029.1357 | S59: 8714 | T59: 8967888.9 | U59: 0 | V59: 0 | W59: 0 | X59: 0 | Y59: 0 | Z59: 0 | AA59: 0 | AB59: 0 | AC59: 0 | AD59: 0 | AG59: 0 | AH59: 0 | AI59: 0 | AJ59: 14 | AK59: 252 | AP59: 0 | AQ59: 0 | AR59: 0 | AS59: 0 | AT59: 0 | AU59: 0 | AV59: 0 | AW59: 0 | AX59: 0 | AY59: 0 | AZ59: 0 | BA59: 0 | BB59: 0 | BC59: 0 | BD59: 0 | BE59: 0 | BF59: 0 | BG59: 0 | BH59: 0 | BI59: 0 | BJ59: 0 | BK59: 0 | BL59: 0 | BM59: 0 | BN59: 0 | BO59: 0 | BP59: 0 | BQ59: Não
A60: 46220 | B60: 1017.7641 | D60: 1017.7641 | E60: 1.0005253 | F60: 1.0079087 | G60: 1.0040354 | H60: 1.011976 | I60: 12.188769 | J60: 0 | K60: 12.188769 | L60: 1029.9529 | N60: 0 | O60: 0 | P60: 0 | Q60: 0 | R60: 1029.9529 | S60: 8714 | T60: 8975009.2 | U60: 0 | V60: 0 | W60: 0 | X60: 0 | Y60: 0 | Z60: 0 | AA60: 0 | AB60: 0 | AC60: 0 | AD60: 0 | AG60: 0 | AH60: 0 | AI60: 0 | AJ60: 15 | AK60: 252 | AP60: 0 | AQ60: 0 | AR60: 0 | AS60: 0 | AT60: 0 | AU60: 0 | AV60: 0 | AW60: 0 | AX60: 0 | AY60: 0 | AZ60: 0 | BA60: 0 | BB60: 0 | BC60: 0 | BD60: 0 | BE60: 0 | BF60: 0 | BG60: 0 | BH60: 0 | BI60: 0 | BJ60: 0 | BK60: 0 | BL60: 0 | BM60: 0 | BN60: 0 | BO60: 0 | BP60: 0 | BQ60: Não
A61: 46221 | B61: 1017.7641 | D61: 1017.7641 | E61: 1 | F61: 1.0079087 | G61: 1.0040354 | H61: 1.011976 | I61: 12.188769 | J61: 0 | K61: 12.188769 | L61: 1029.9529 | N61: 0 | O61: 0 | P61: 0 | Q61: 0 | R61: 1029.9529 | S61: 8714 | T61: 8975009.2 | U61: 0 | V61: 0 | W61: 0 | X61: 0 | Y61: 0 | Z61: 0 | AA61: 0 | AB61: 0 | AC61: 0 | AD61: 0 | AG61: 0 | AH61: 0 | AI61: 0 | AJ61: 15 | AK61: 252 | AP61: 0 | AQ61: 0 | AR61: 0 | AS61: 0 | AT61: 0 | AU61: 0 | AV61: 0 | AW61: 0 | AX61: 0 | AY61: 0 | AZ61: 0 | BA61: 0 | BB61: 0 | BC61: 0 | BD61: 0 | BE61: 0 | BF61: 0 | BG61: 0 | BH61: 0 | BI61: 0 | BJ61: 0 | BK61: 0 | BL61: 0 | BM61: 0 | BN61: 0 | BO61: 0 | BP61: 0 | BQ61: Não
A62: 46222 | B62: 1017.7641 | D62: 1017.7641 | E62: 1 | F62: 1.0079087 | G62: 1.0040354 | H62: 1.011976 | I62: 12.188769 | J62: 0 | K62: 12.188769 | L62: 1029.9529 | N62: 0 | O62: 0 | P62: 0 | Q62: 0 | R62: 1029.9529 | S62: 8714 | T62: 8975009.2 | U62: 0 | V62: 0 | W62: 0 | X62: 0 | Y62: 0 | Z62: 0 | AA62: 0 | AB62: 0 | AC62: 0 | AD62: 0 | AG62: 0 | AH62: 0 | AI62: 0 | AJ62: 15 | AK62: 252 | AP62: 0 | AQ62: 0 | AR62: 0 | AS62: 0 | AT62: 0 | AU62: 0 | AV62: 0 | AW62: 0 | AX62: 0 | AY62: 0 | AZ62: 0 | BA62: 0 | BB62: 0 | BC62: 0 | BD62: 0 | BE62: 0 | BF62: 0 | BG62: 0 | BH62: 0 | BI62: 0 | BJ62: 0 | BK62: 0 | BL62: 0 | BM62: 0 | BN62: 0 | BO62: 0 | BP62: 0 | BQ62: Não
A63: 46223 | B63: 1017.7641 | D63: 1017.7641 | E63: 1.0005253 | F63: 1.0084382 | G63: 1.004305 | H63: 1.0127795 | I63: 13.00653 | J63: 0 | K63: 13.00653 | L63: 1030.7706 | N63: 0 | O63: 0 | P63: 0 | Q63: 0 | R63: 1030.7706 | S63: 8714 | T63: 8982135.1 | U63: 0 | V63: 0 | W63: 0 | X63: 0 | Y63: 0 | Z63: 0 | AA63: 0 | AB63: 0 | AC63: 0 | AD63: 0 | AG63: 0 | AH63: 0 | AI63: 0 | AJ63: 16 | AK63: 252 | AP63: 0 | AQ63: 0 | AR63: 0 | AS63: 0 | AT63: 0 | AU63: 0 | AV63: 0 | AW63: 0 | AX63: 0 | AY63: 0 | AZ63: 0 | BA63: 0 | BB63: 0 | BC63: 0 | BD63: 0 | BE63: 0 | BF63: 0 | BG63: 0 | BH63: 0 | BI63: 0 | BJ63: 0 | BK63: 0 | BL63: 0 | BM63: 0 | BN63: 0 | BO63: 0 | BP63: 0 | BQ63: Não
...

Sheet PuDiario 4E 2S
A1: Nome | B1: DEB 4E S2 (Precatório Nomos)
A2: Nome Fantasia | B2: DEB 4E S2 (Precatório Nomos)
A3: Código do Contrato CETIP | B3: SOUS24
A4: Agente Fiduciário
A5: Taxa de Juros (26/05/2026) | B5: 0.0000 % a.a.
A7: Data | B7: Valor Unitário Base | C7: Fator Correção | D7: Valor Unitário Corrigido | E7: Fator DI | F7: Fator DI Acumulado | G7: Fator Spread | H7: Fator Spread X DI | I7: Juros Esperado | J7: Juros Extra | K7: Juros Real | L7: Valor Unitário Corrigido Mais Juros (Valor Unitário Atualizado) | M7: Tai (%) | N7: Amortização Esperada | O7: Amortização Extra | P7: Amortização Real | Q7: Valor Unitário Liberação | R7: Valor Unitário Residual | S7: Quantidade | T7: Valor Total | U7: Pagamento Curva Un. | V7: Prêmio Pré-pagamento Un. | W7: Prêmio Genérico Un. | X7: Pgto. Juros Total | Y7: Pgto. Amort. Ord. (Principal) Total | Z7: Pgto. Amort. Ord. (Correção) Total | AA7: Pgto. Amex (Principal) Total | AB7: Pgto. Amex (Correção) Total | AC7: Pgto. Prêmios Total | AD7: Pgto. Total (Sem inadimpência) | AE7: Data Original Evento | AF7: Data de Vencimento do Evento | AG7: Fator Índice desde Início | AH7: DUP Correção | AI7: DUT Correção | AJ7: DUP Juros | AK7: DUT Juros | AL7: Data Do Índice Utilizado | AM7: Valor Do Índice Utilizado | AN7: Data Do Índice Utilizado (div) | AO7: Valor Do Índice Utilizado (div) | AP7: Fator Multa | AQ7: Fator Mora | AR7: Mora DUP | AS7: Mora DUT | AT7: PU do Juros Inad. p/ Multa | AU7: Multa do Juros | AV7: PU da Amort Inad. p/ Multa | AW7: Multa da Amort | AX7: PU do Juros Inad. p/ Mora | AY7: Correção Inad. Juros | AZ7: Juros sobre Inad. Juros | BA7: Mora Inad. Juros | BB7: PU da Amort Inad. p/ Mora | BC7: Correção Inad. Amort | BD7: Juros sobre Inad. Amort | BE7: Mora Inad. Amort | BF7: Pgto. Multa Juros | BG7: Pgto. Multa Amort | BH7: Pgto. Mora Juros | BI7: Pgto. Mora Amort | BJ7: Pgto. Juros sobre Juros Inad. | BK7: Pgto. Juros sobre Amort Inad. | BL7: Pgto. Correção Juros Inad. | BM7: Pgto. Correção Amort Inad. | BN7: Pgto. Principal Juros Inad. | BO7: Pgto. Principal Amort Inad. | BP7: Pgto. Total | BQ7: Houve Incorporação de Juros?
A8: 46168 | B8: 1000 | D8: 1000 | G8: 1 | I8: 0 | J8: 0 | K8: 0 | L8: 1000 | M8: 0 | N8: 0 | O8: 0 | P8: 0 | Q8: 0 | R8: 1000 | S8: 0 | T8: 0 | U8: 0 | V8: 0 | W8: 0 | X8: 0 | Y8: 0 | Z8: 0 | AA8: 0 | AB8: 0 | AC8: 0 | AD8: 0 | AG8: 0 | AH8: 0 | AI8: 0 | AJ8: 0 | AK8: 360 | AP8: 0 | AQ8: 0 | AR8: 0 | AS8: 0 | AT8: 0 | AU8: 0 | AV8: 0 | AW8: 0 | AX8: 0 | AY8: 0 | AZ8: 0 | BA8: 0 | BB8: 0 | BC8: 0 | BD8: 0 | BE8: 0 | BF8: 0 | BG8: 0 | BH8: 0 | BI8: 0 | BJ8: 0 | BK8: 0 | BL8: 0 | BM8: 0 | BN8: 0 | BO8: 0 | BP8: 0 | BQ8: Não
A9: 46169 | B9: 1000 | D9: 1000 | G9: 1 | I9: 0 | J9: 0 | K9: 0 | L9: 1000 | N9: 0 | O9: 0 | P9: 0 | Q9: 0 | R9: 1000 | S9: 0 | T9: 0 | U9: 0 | V9: 0 | W9: 0 | X9: 0 | Y9: 0 | Z9: 0 | AA9: 0 | AB9: 0 | AC9: 0 | AD9: 0 | AG9: 0 | AH9: 1 | AI9: 31 | AJ9: 1 | AK9: 360 | AP9: 0 | AQ9: 0 | AR9: 0 | AS9: 0 | AT9: 0 | AU9: 0 | AV9: 0 | AW9: 0 | AX9: 0 | AY9: 0 | AZ9: 0 | BA9: 0 | BB9: 0 | BC9: 0 | BD9: 0 | BE9: 0 | BF9: 0 | BG9: 0 | BH9: 0 | BI9: 0 | BJ9: 0 | BK9: 0 | BL9: 0 | BM9: 0 | BN9: 0 | BO9: 0 | BP9: 0 | BQ9: Não
A10: 46170 | B10: 1000 | D10: 1000 | G10: 1 | I10: 0 | J10: 0 | K10: 0 | L10: 1000 | N10: 0 | O10: 0 | P10: 0 | Q10: 0 | R10: 1000 | S10: 1536 | T10: 1536000 | U10: 0 | V10: 0 | W10: 0 | X10: 0 | Y10: 0 | Z10: 0 | AA10: 0 | AB10: 0 | AC10: 0 | AD10: 0 | AG10: 0 | AH10: 2 | AI10: 31 | AJ10: 2 | AK10: 360 | AP10: 0 | AQ10: 0 | AR10: 0 | AS10: 0 | AT10: 0 | AU10: 0 | AV10: 0 | AW10: 0 | AX10: 0 | AY10: 0 | AZ10: 0 | BA10: 0 | BB10: 0 | BC10: 0 | BD10: 0 | BE10: 0 | BF10: 0 | BG10: 0 | BH10: 0 | BI10: 0 | BJ10: 0 | BK10: 0 | BL10: 0 | BM10: 0 | BN10: 0 | BO10: 0 | BP10: 0 | BQ10: Não
A11: 46171 | B11: 1000 | D11: 1000 | G11: 1 | I11: 0 | J11: 0 | K11: 0 | L11: 1000 | N11: 0 | O11: 0 | P11: 0 | Q11: 0 | R11: 1000 | S11: 1536 | T11: 1536000 | U11: 0 | V11: 0 | W11: 0 | X11: 0 | Y11: 0 | Z11: 0 | AA11: 0 | AB11: 0 | AC11: 0 | AD11: 0 | AG11: 0 | AH11: 3 | AI11: 31 | AJ11: 3 | AK11: 360 | AP11: 0 | AQ11: 0 | AR11: 0 | AS11: 0 | AT11: 0 | AU11: 0 | AV11: 0 | AW11: 0 | AX11: 0 | AY11: 0 | AZ11: 0 | BA11: 0 | BB11: 0 | BC11: 0 | BD11: 0 | BE11: 0 | BF11: 0 | BG11: 0 | BH11: 0 | BI11: 0 | BJ11: 0 | BK11: 0 | BL11: 0 | BM11: 0 | BN11: 0 | BO11: 0 | BP11: 0 | BQ11: Não
A12: 46172 | B12: 1000 | D12: 1000 | G12: 1 | I12: 0 | J12: 0 | K12: 0 | L12: 1000 | N12: 0 | O12: 0 | P12: 0 | Q12: 0 | R12: 1000 | S12: 1536 | T12: 1536000 | U12: 0 | V12: 0 | W12: 0 | X12: 0 | Y12: 0 | Z12: 0 | AA12: 0 | AB12: 0 | AC12: 0 | AD12: 0 | AG12: 0 | AH12: 4 | AI12: 31 | AJ12: 4 | AK12: 360 | AP12: 0 | AQ12: 0 | AR12: 0 | AS12: 0 | AT12: 0 | AU12: 0 | AV12: 0 | AW12: 0 | AX12: 0 | AY12: 0 | AZ12: 0 | BA12: 0 | BB12: 0 | BC12: 0 | BD12: 0 | BE12: 0 | BF12: 0 | BG12: 0 | BH12: 0 | BI12: 0 | BJ12: 0 | BK12: 0 | BL12: 0 | BM12: 0 | BN12: 0 | BO12: 0 | BP12: 0 | BQ12: Não
A13: 46173 | B13: 1000 | D13: 1000 | G13: 1 | I13: 0 | J13: 0 | K13: 0 | L13: 1000 | N13: 0 | O13: 0 | P13: 0 | Q13: 0 | R13: 1000 | S13: 1536 | T13: 1536000 | U13: 0 | V13: 0 | W13: 0 | X13: 0 | Y13: 0 | Z13: 0 | AA13: 0 | AB13: 0 | AC13: 0 | AD13: 0 | AG13: 0 | AH13: 5 | AI13: 31 | AJ13: 5 | AK13: 360 | AP13: 0 | AQ13: 0 | AR13: 0 | AS13: 0 | AT13: 0 | AU13: 0 | AV13: 0 | AW13: 0 | AX13: 0 | AY13: 0 | AZ13: 0 | BA13: 0 | BB13: 0 | BC13: 0 | BD13: 0 | BE13: 0 | BF13: 0 | BG13: 0 | BH13: 0 | BI13: 0 | BJ13: 0 | BK13: 0 | BL13: 0 | BM13: 0 | BN13: 0 | BO13: 0 | BP13: 0 | BQ13: Não
A14: 46174 | B14: 1000 | D14: 1000 | G14: 1 | I14: 0 | J14: 0 | K14: 0 | L14: 1000 | N14: 0 | O14: 0 | P14: 0 | Q14: 0 | R14: 1000 | S14: 1536 | T14: 1536000 | U14: 0 | V14: 0 | W14: 0 | X14: 0 | Y14: 0 | Z14: 0 | AA14: 0 | AB14: 0 | AC14: 0 | AD14: 0 | AG14: 0 | AH14: 6 | AI14: 31 | AJ14: 6 | AK14: 360 | AP14: 0 | AQ14: 0 | AR14: 0 | AS14: 0 | AT14: 0 | AU14: 0 | AV14: 0 | AW14: 0 | AX14: 0 | AY14: 0 | AZ14: 0 | BA14: 0 | BB14: 0 | BC14: 0 | BD14: 0 | BE14: 0 | BF14: 0 | BG14: 0 | BH14: 0 | BI14: 0 | BJ14: 0 | BK14: 0 | BL14: 0 | BM14: 0 | BN14: 0 | BO14: 0 | BP14: 0 | BQ14: Não
A15: 46175 | B15: 1000 | D15: 1000 | G15: 1 | I15: 0 | J15: 0 | K15: 0 | L15: 1000 | N15: 0 | O15: 0 | P15: 0 | Q15: 0 | R15: 1000 | S15: 1536 | T15: 1536000 | U15: 0 | V15: 0 | W15: 0 | X15: 0 | Y15: 0 | Z15: 0 | AA15: 0 | AB15: 0 | AC15: 0 | AD15: 0 | AG15: 0 | AH15: 7 | AI15: 31 | AJ15: 7 | AK15: 360 | AP15: 0 | AQ15: 0 | AR15: 0 | AS15: 0 | AT15: 0 | AU15: 0 | AV15: 0 | AW15: 0 | AX15: 0 | AY15: 0 | AZ15: 0 | BA15: 0 | BB15: 0 | BC15: 0 | BD15: 0 | BE15: 0 | BF15: 0 | BG15: 0 | BH15: 0 | BI15: 0 | BJ15: 0 | BK15: 0 | BL15: 0 | BM15: 0 | BN15: 0 | BO15: 0 | BP15: 0 | BQ15: Não
A16: 46176 | B16: 1000 | D16: 1000 | G16: 1 | I16: 0 | J16: 0 | K16: 0 | L16: 1000 | N16: 0 | O16: 0 | P16: 0 | Q16: 0 | R16: 1000 | S16: 1536 | T16: 1536000 | U16: 0 | V16: 0 | W16: 0 | X16: 0 | Y16: 0 | Z16: 0 | AA16: 0 | AB16: 0 | AC16: 0 | AD16: 0 | AG16: 0 | AH16: 8 | AI16: 31 | AJ16: 8 | AK16: 360 | AP16: 0 | AQ16: 0 | AR16: 0 | AS16: 0 | AT16: 0 | AU16: 0 | AV16: 0 | AW16: 0 | AX16: 0 | AY16: 0 | AZ16: 0 | BA16: 0 | BB16: 0 | BC16: 0 | BD16: 0 | BE16: 0 | BF16: 0 | BG16: 0 | BH16: 0 | BI16: 0 | BJ16: 0 | BK16: 0 | BL16: 0 | BM16: 0 | BN16: 0 | BO16: 0 | BP16: 0 | BQ16: Não
A17: 46177 | B17: 1000 | D17: 1000 | G17: 1 | I17: 0 | J17: 0 | K17: 0 | L17: 1000 | N17: 0 | O17: 0 | P17: 0 | Q17: 0 | R17: 1000 | S17: 1536 | T17: 1536000 | U17: 0 | V17: 0 | W17: 0 | X17: 0 | Y17: 0 | Z17: 0 | AA17: 0 | AB17: 0 | AC17: 0 | AD17: 0 | AG17: 0 | AH17: 9 | AI17: 31 | AJ17: 9 | AK17: 360 | AP17: 0 | AQ17: 0 | AR17: 0 | AS17: 0 | AT17: 0 | AU17: 0 | AV17: 0 | AW17: 0 | AX17: 0 | AY17: 0 | AZ17: 0 | BA17: 0 | BB17: 0 | BC17: 0 | BD17: 0 | BE17: 0 | BF17: 0 | BG17: 0 | BH17: 0 | BI17: 0 | BJ17: 0 | BK17: 0 | BL17: 0 | BM17: 0 | BN17: 0 | BO17: 0 | BP17: 0 | BQ17: Não
A18: 46178 | B18: 1000 | D18: 1000 | G18: 1 | I18: 0 | J18: 0 | K18: 0 | L18: 1000 | N18: 0 | O18: 0 | P18: 0 | Q18: 0 | R18: 1000 | S18: 1536 | T18: 1536000 | U18: 0 | V18: 0 | W18: 0 | X18: 0 | Y18: 0 | Z18: 0 | AA18: 0 | AB18: 0 | AC18: 0 | AD18: 0 | AG18: 0 | AH18: 10 | AI18: 31 | AJ18: 10 | AK18: 360 | AP18: 0 | AQ18: 0 | AR18: 0 | AS18: 0 | AT18: 0 | AU18: 0 | AV18: 0 | AW18: 0 | AX18: 0 | AY18: 0 | AZ18: 0 | BA18: 0 | BB18: 0 | BC18: 0 | BD18: 0 | BE18: 0 | BF18: 0 | BG18: 0 | BH18: 0 | BI18: 0 | BJ18: 0 | BK18: 0 | BL18: 0 | BM18: 0 | BN18: 0 | BO18: 0 | BP18: 0 | BQ18: Não
A19: 46179 | B19: 1000 | D19: 1000 | G19: 1 | I19: 0 | J19: 0 | K19: 0 | L19: 1000 | N19: 0 | O19: 0 | P19: 0 | Q19: 0 | R19: 1000 | S19: 1536 | T19: 1536000 | U19: 0 | V19: 0 | W19: 0 | X19: 0 | Y19: 0 | Z19: 0 | AA19: 0 | AB19: 0 | AC19: 0 | AD19: 0 | AG19: 0 | AH19: 11 | AI19: 31 | AJ19: 11 | AK19: 360 | AP19: 0 | AQ19: 0 | AR19: 0 | AS19: 0 | AT19: 0 | AU19: 0 | AV19: 0 | AW19: 0 | AX19: 0 | AY19: 0 | AZ19: 0 | BA19: 0 | BB19: 0 | BC19: 0 | BD19: 0 | BE19: 0 | BF19: 0 | BG19: 0 | BH19: 0 | BI19: 0 | BJ19: 0 | BK19: 0 | BL19: 0 | BM19: 0 | BN19: 0 | BO19: 0 | BP19: 0 | BQ19: Não
A20: 46180 | B20: 1000 | D20: 1000 | G20: 1 | I20: 0 | J20: 0 | K20: 0 | L20: 1000 | N20: 0 | O20: 0 | P20: 0 | Q20: 0 | R20: 1000 | S20: 1536 | T20: 1536000 | U20: 0 | V20: 0 | W20: 0 | X20: 0 | Y20: 0 | Z20: 0 | AA20: 0 | AB20: 0 | AC20: 0 | AD20: 0 | AG20: 0 | AH20: 12 | AI20: 31 | AJ20: 12 | AK20: 360 | AP20: 0 | AQ20: 0 | AR20: 0 | AS20: 0 | AT20: 0 | AU20: 0 | AV20: 0 | AW20: 0 | AX20: 0 | AY20: 0 | AZ20: 0 | BA20: 0 | BB20: 0 | BC20: 0 | BD20: 0 | BE20: 0 | BF20: 0 | BG20: 0 | BH20: 0 | BI20: 0 | BJ20: 0 | BK20: 0 | BL20: 0 | BM20: 0 | BN20: 0 | BO20: 0 | BP20: 0 | BQ20: Não
... A38: 46198 | B38: 1000 | D38: 1000 | G38: 1 | I38: 0 | J38: 0 | K38: 0 | L38: 1000 | N38: 0 | O38: 0 | P38: 0 | Q38: 0 | R38: 1000 | S38: 1536 | T38: 1536000 | U38: 0 | V38: 0 | W38: 0 | X38: 0 | Y38: 0 | Z38: 0 | AA38: 0 | AB38: 0 | AC38: 0 | AD38: 0 | AG38: 0 | AH38: 30 | AI38: 31 | AJ38: 30 | AK38: 360 | AP38: 0 | AQ38: 0 | AR38: 0 | AS38: 0 | AT38: 0 | AU38: 0 | AV38: 0 | AW38: 0 | AX38: 0 | AY38: 0 | AZ38: 0 | BA38: 0 | BB38: 0 | BC38: 0 | BD38: 0 | BE38: 0 | BF38: 0 | BG38: 0 | BH38: 0 | BI38: 0 | BJ38: 0 | BK38: 0 | BL38: 0 | BM38: 0 | BN38: 0 | BO38: 0 | BP38: 0 | BQ38: Não
A39: 46199 | B39: 1000 | D39: 1000 | G39: 1 | I39: 0 | J39: 0 | K39: 0 | L39: 1000 | M39: 0 | N39: 0 | O39: 0 | P39: 0 | Q39: 0 | R39: 1000 | S39: 1536 | T39: 1536000 | U39: 0 | V39: 0 | W39: 0 | X39: 0 | Y39: 0 | Z39: 0 | AA39: 0 | AB39: 0 | AC39: 0 | AD39: 0 | AG39: 0 | AH39: 31 | AI39: 31 | AJ39: 31 | AK39: 360 | AP39: 0 | AQ39: 0 | AR39: 0 | AS39: 0 | AT39: 0 | AU39: 0 | AV39: 0 | AW39: 0 | AX39: 0 | AY39: 0 | AZ39: 0 | BA39: 0 | BB39: 0 | BC39: 0 | BD39: 0 | BE39: 0 | BF39: 0 | BG39: 0 | BH39: 0 | BI39: 0 | BJ39: 0 | BK39: 0 | BL39: 0 | BM39: 0 | BN39: 0 | BO39: 0 | BP39: 0 | BQ39: Não
A40: 46200 | B40: 1000 | D40: 1000 | G40: 1 | I40: 0 | J40: 0 | K40: 0 | L40: 1000 | N40: 0 | O40: 0 | P40: 0 | Q40: 0 | R40: 1000 | S40: 1536 | T40: 1536000 | U40: 0 | V40: 0 | W40: 0 | X40: 0 | Y40: 0 | Z40: 0 | AA40: 0 | AB40: 0 | AC40: 0 | AD40: 0 | AG40: 0 | AH40: 1 | AI40: 31 | AJ40: 1 | AK40: 360 | AP40: 0 | AQ40: 0 | AR40: 0 | AS40: 0 | AT40: 0 | AU40: 0 | AV40: 0 | AW40: 0 | AX40: 0 | AY40: 0 | AZ40: 0 | BA40: 0 | BB40: 0 | BC40: 0 | BD40: 0 | BE40: 0 | BF40: 0 | BG40: 0 | BH40: 0 | BI40: 0 | BJ40: 0 | BK40: 0 | BL40: 0 | BM40: 0 | BN40: 0 | BO40: 0 | BP40: 0 | BQ40: Não
A41: 46201 | B41: 1000 | D41: 1000 | G41: 1 | I41: 0 | J41: 0 | K41: 0 | L41: 1000 | N41: 0 | O41: 0 | P41: 0 | Q41: 0 | R41: 1000 | S41: 1536 | T41: 1536000 | U41: 0 | V41: 0 | W41: 0 | X41: 0 | Y41: 0 | Z41: 0 | AA41: 0 | AB41: 0 | AC41: 0 | AD41: 0 | AG41: 0 | AH41: 2 | AI41: 31 | AJ41: 2 | AK41: 360 | AP41: 0 | AQ41: 0 | AR41: 0 | AS41: 0 | AT41: 0 | AU41: 0 | AV41: 0 | AW41: 0 | AX41: 0 | AY41: 0 | AZ41: 0 | BA41: 0 | BB41: 0 | BC41: 0 | BD41: 0 | BE41: 0 | BF41: 0 | BG41: 0 | BH41: 0 | BI41: 0 | BJ41: 0 | BK41: 0 | BL41: 0 | BM41: 0 | BN41: 0 | BO41: 0 | BP41: 0 | BQ41: Não
A42: 46202 | B42: 1000 | D42: 1000 | G42: 1 | I42: 0 | J42: 0 | K42: 0 | L42: 1000 | N42: 0 | O42: 0 | P42: 0 | Q42: 0 | R42: 1000 | S42: 1536 | T42: 1536000 | U42: 0 | V42: 0 | W42: 0 | X42: 0 | Y42: 0 | Z42: 0 | AA42: 0 | AB42: 0 | AC42: 0 | AD42: 0 | AG42: 0 | AH42: 3 | AI42: 31 | AJ42: 3 | AK42: 360 | AP42: 0 | AQ42: 0 | AR42: 0 | AS42: 0 | AT42: 0 | AU42: 0 | AV42: 0 | AW42: 0 | AX42: 0 | AY42: 0 | AZ42: 0 | BA42: 0 | BB42: 0 | BC42: 0 | BD42: 0 | BE42: 0 | BF42: 0 | BG42: 0 | BH42: 0 | BI42: 0 | BJ42: 0 | BK42: 0 | BL42: 0 | BM42: 0 | BN42: 0 | BO42: 0 | BP42: 0 | BQ42: Não
